Workbook

Sheet запросы
H1: ="Отправлено запросов: "&TEXT(COUNTA(G4:G10006),0)&"" -> Отправлено запросов: 2735 | I1: ="Пришло ответов: "&TEXT(COUNTA(L4:L10006),0)&" из них сегодня: "&TEXT(COUNTA(L4:L10006)-1906,0)&"" -> Пришло ответов: 2086 из них сегодня: 180
A2: № п/п | B2: №дсн | C2: Фамилия | D2: Имя | E2: Отчество | F2: Личный номер | G2: Дата запроса | H2: Кто оформил | I2: Примечание | J2: Запрос | L2: ответ
J3: Дата | K3: Площадь
A4: 1 | C4: Башкатов | D4: Юрий | E4: Юрьевич | G4: 40885 | H4: Котов | K4: №54 от 12.01.12 | L4: Башкатов Юрий Юрьевич, 24.07.1975 г. р. Адрес: Зеленокумск, Советский, Новая, Д.возле дома Площадь: 22,3 кв.м. Регистрационный номер: 26-26-27/008/2006-347 Кадастровый номер: 26:27:061501:0209:07:250:002:000001630:К:20026 Назначение объекта: Нежилое здание Доля в праве: 1,00 Неформализованное описание: Ставропольский край, Советский район, город Зеленокумск, улица Новая, возле дома 8 Дата начала регистрации: 29.06.2006 Дата окончания регистрации: 14.09.2006 Документ: Паспорт гражданина Российской Федерации , Серия: 07 00 , Номер: 219047 , 18.01.2001 Адрес: Зеленокумск, Советский, Владикавказский, Д.23 Площадь: 600,0 кв.м. Регистрационный номер: 26-01/27-1/1999-222 Кадастровый номер: 26:27:060802:0200 Назначение объекта: Земли населенных пунктов Доля в праве: 1,00 Неформализованное описание: Ставропольский край, Советский район, город Зеленокумск, переулок Владикавказский, 23 Дата начала регистрации: 20.09.1999 Дата окончания регистрации: 19.02.2008 Документ: Паспорт гражданина Российской Федерации , Серия: 07 00 , Номер: 219047 , 18.01.2001 Башкатова Лилиана Васильевна, 04.01.1975 г. р. В Едином Государственном Реестре прав отсутствуют сведения о зарегистрированных правах. Башкатов Александр Юрьевич, 27.03.2001 г. р. В Едином Государственном Реестре прав отсутствуют сведения о зарегистрированных правах. Башкатова Екатерина Юрьевна, 25.05.2004 г. р. В Едином Государственном Реестре прав отсутствуют сведения о зарегистрированных правах.
A5: 2 | B5: 3156/тс | C5: Бисеров | D5: Сергей | E5: Александрович | G5: 40885 | H5: Котов | I5: в каб. 7 | K5: № 31 от 03.10.2011 | L5: в едином реестре сведения отсутствуют есть данные о перемещении имущества
A6: 3 | C6: Борисова | D6: Ирина | E6: Валентиновна | G6: 40885 | H6: котов | K6: №54 от 12.01.12 (21,2) | L6: Борисова Ирина Валентиновна, 16.04.1963 г. р. Наименование объекта: Земельный участок Адрес: Дзержинский р-н Площадь: 1.500,0 кв.м. Регистрационный номер: 40-40-04/034/2008-180 Кадастровый номер: 40:04:121201:43 Назначение объекта: Для ведения личного подсобного хозяйства (приусаде Доля в праве: 1,00 Неформализованное описание: Калужская область, Дзержинский район, д.Юдинки Дата начала регистрации: 05.12.2008 Дата окончания регистрации: 22.12.2008 Документ: паспорт гражданина Российской Федерации , Серия: 46 08 , Номер: 041165 , 12.05.2008 Борисова Татьяна Сергеевна, 11.11.1992 г. р. Наименование объекта: 2-комнатная квартира Адрес: Лобня г, Ленина ул, Д.45, КВ.39 Площадь: 42,4 кв.м. Условный номер: 50:41:02:00017:001:0005 Регистрационный номер: 50-01.41-03.1999-235.1 Назначение объекта: Жилое Доля в праве: 0,50 Неформализованное описание: Московская область, г.Лобня, ул.Ленина, д.45, кв.39 Дата начала регистрации: 30.04.1999 Дата окончания регистрации: 23.03.2000 Документ: паспорт гражданина СССР , Серия: I-ИК , Номер: 310132 , 15.03.1995 Наименование объекта: Жилое помещение Адрес: Лобня г, Космонавтов ул, Д.7, КВ.1 Площадь: 28,7 кв.м. Условный номер: 50:41:02:00081:001:0007 Регистрационный номер: 50-01.41-02.2000-222.1 Назначение объекта: квартира Доля в праве: 1,00 Неформализованное описание: Московская область, г.Лобня, ул.Космонавтов, д.7, кв.1 Дата начала регистрации: 23.03.2000 Документ: паспорт гражданина СССР , Серия: I-ИК , Номер: 310132 , 15.03.1995
A7: 4 | C7: Волоскович | D7: Сергей | E7: Анатольевич | G7: 40885 | H7: Котов | K7: №54 от 12.01.12 | L7: Волоскович Сергей Анатольевич, 14.11.1974 г. р. В Едином Государственном Реестре прав отсутствуют сведения о зарегистрированных правах.
A8: 5 | C8: Кисляков | D8: Роман | E8: Геннадьевич | G8: 40885 | H8: котов | K8: №54 от 12.01.12 (18,6) | L8: Кисляков Роман Геннадьевич, 24.04.1971 г. р. В Едином Государственном Реестре прав отсутствуют сведения о зарегистрированных правах. Кислякова Ирина Николаевна, 13.11.1970 г. р. Наименование объекта: Квартира Адрес: Владимир г, Строителей пр-кт, Д.38-а, КВ.55 Площадь: 56,4 кв.м. Регистрационный номер: 33-33-01/071/2006-42 Кадастровый номер: 33:22:00000:000:17:401:001:002006100:0001:10055 Назначение объекта: Жилое Доля в праве: 0,33 Неформализованное описание: Владимирская область, г. Владимир, пр-кт Строителей, д. 38-а, квартира № 55 Дата начала регистрации: 09.11.2006 Дата окончания регистрации: 09.11.2006 Документ: паспорт гражданина Российской Федерации , Серия: 81 00 , Номер: 104262 , 07.12.2001 Кисляков Евгений Романович, 19.10.1995 г. р. В Едином Государственном Реестре прав отсутствуют сведения о зарегистрированных правах. Кисляков Алексей Романович, 03.04.2002 г. р. В Едином Государственном Реестре прав отсутствуют сведения о зарегистрированных правах.
A9: 6 | C9: Костеньков | D9: Алексей | E9: Васильевич | G9: 40885 | H9: котов | K9: №54 от 12.01.12 (30,5) | L9: Костеньков Алексей Васильевич, 30.03.1968 г. р. Адрес: Елец, Вермишева, Д.13, КВ.53 Площадь: 30,5 кв.м. Регистрационный номер: 48-01/19-3/2001-498 Кадастровый номер: 48:19:0:0:12518\01:0053\А Назначение объекта: жилое Доля в праве: 1,00 Неформализованное описание: Липецкая обл., г. Елец, ул. Вермишева, д.13 кв.53 Дата начала регистрации: 09.08.2001 Дата окончания регистрации: 09.08.2001 Документ: , Серия: ДФ , Номер: 057404 , 23.06.1991 Костенькова Инна Геннадьевна, 14.07.1965 г. р. В Едином Государственном Реестре прав отсутствуют сведения о зарегистрированных правах. Костенькова Ксения Алексеевна, 23.08.1993 г. р. В Едином Государственном Реестре прав отсутствуют сведения о зарегистрированных правах. Костенькова Вера Алексеевна, 06.09.2004 г. р. В Едином Государственном Реестре прав отсутствуют сведения о зарегистрированных правах.
A10: 7 | C10: Кузовлев | D10: Дмитрий | E10: Вячеславович | G10: 40885 | H10: Котов | K10: №55 от 17.01.2012 | L10: Кузовлев Дмитрий Вячеславович, 25.09.1971 г. р. В Едином Государственном Реестре прав отсутствуют сведения о зарегистрированных правах. Кузовлева Елена Александровна, 25.12.1975 г. р. В Едином Государственном Реестре прав отсутствуют сведения о зарегистрированных правах. Кузовлев Никита Дмитриевич, 24.08.1996 г. р. В Едином Государственном Реестре прав отсутствуют сведения о зарегистрированных правах. Кузовлева Аделина Дмитриевна, 07.08.2002 г. р. В Едином Государственном Реестре прав отсутствуют сведения о зарегистрированных правах. Кузовлева Милана Дмитриевна, 04.04.2007 г. р. В Едином Государственном Реестре прав отсутствуют сведения о зарегистрированных правах.
A11: 8 | C11: Курьин | D11: Александр | E11: Борисович | G11: 40885 | H11: Котов | K11: №54 от 12.01.12 | L11: Курьин Александр Борисович, 30.04.1980 г. р. В Едином Государственном Реестре прав отсутствуют сведения о зарегистрированных правах. Курьина Ольга Алексеевна, 01.02.1981 г. р. В Едином Государственном Реестре прав отсутствуют сведения о зарегистрированных правах. Курьин Вячеслав Александрович, 01.04.2005 г. р. В Едином Государственном Реестре прав отсутствуют сведения о зарегистрированных правах. Курьина Вероника Александровна, 19.08.2010 г. р. В Едином Государственном Реестре прав отсутствуют сведения о зарегистрированных правах.
A12: 9 | C12: Линчевский | D12: Александр | E12: Юрьевич | G12: 40885 | H12: Котов | K12: №54 от 12.01.12 | L12: Линчевский Александр Юрьевич, 06.10.1963 г. р. В Едином Государственном Реестре прав отсутствуют сведения о зарегистрированных правах. Линчевская Наталия Владимировна, 08.02.1965 г. р. В Едином Государственном Реестре прав отсутствуют сведения о зарегистрированных правах. Линческий Александр Александрович, 27.11.1985 г. р. В Едином Государственном Реестре прав отсутствуют сведения о зарегистрированных правах. Линчевская Ирина Александровна, 11.08.1990 г. р. В Едином Государственном Реестре прав отсутствуют сведения о зарегистрированных правах.
A13: 10 | C13: Нецветаев | D13: Николай | E13: Сергеевич | G13: 40885 | H13: котов | K13: №54 от 12.01.12 | L13: Нецветаев Николай Сергеевич, 01.05.1962 г. р. В Едином Государственном Реестре прав отсутствуют сведения о зарегистрированных правах. Нецветаева Людмила Михайловна, 18.10.1967 г. р. В Едином Государственном Реестре прав отсутствуют сведения о зарегистрированных правах.
A14: 11 | C14: Пиварчук | D14: Александр | E14: Леонидович | G14: 40885 | H14: Котов | K14: №54 от 12.01.2012 (18,2) | L14: Пиварчук Александр Леонидович, 08.06.1971 г. р. В Едином Государственном Реестре прав отсутствуют сведения о зарегистрированных правах. Пиварчук Ирина Петровна, 15.07.1971 г. р. Адрес: Новочеркасск, Володарского, Д.19 Площадь: 36,3 кв.м. Условный номер: 61:55:0 0 0:8807:5359:А Регистрационный номер: 61-61-32/083/2005-714 Назначение объекта: жилое Доля в праве: 0,50 Неформализованное описание: Россия, Ростовская обл., г. Новочеркасск, пер. Володарского, дом №19 Дата начала регистрации: 23.01.2006 Дата окончания регистрации: 24.03.2006 Документ: Паспорт гражданина Российской Федерации , Серия: 05 00 , Номер: 107055 , 19.06.2000 Адрес: Новочеркасск, Володарского, Д.19 Площадь: 31,8 кв.м. Условный номер: 61:55:0 0 0:9335:5359:В Регистрационный номер: 61-61-32/083/2005-716 Назначение объекта: нежилое Доля в праве: 0,50 Неформализованное описание: Россия, Ростовская обл., г. Новочеркасск, пер. Володарского, дом №19 Дата начала регистрации: 23.01.2006 Дата окончания регистрации: 24.03.2006 Документ: Паспорт гражданина Российской Федерации , Серия: 05 00 , Номер: 107055 , 19.06.2000 Адрес: Новочеркасск, Володарского, Д.19 Площадь: 20,1 кв.м. Условный номер: 61:55:0 0 0:9336:5359:Б Регистрационный номер: 61-61-32/083/2005-718 Назначение объекта: нежилое Доля в праве: 0,50 Неформализованное описание: Россия, Ростовская обл., г. Новочеркасск, пер. Володарского, дом №19 Дата начала регистрации: 23.01.2006 Дата окончания регистрации: 24.03.2006 Документ: Паспорт гражданина Российской Федерации , Серия: 05 00 , Номер: 107055 , 19.06.2000 Пиварчук Алексей Александрович, 18.01.1995 г. р. В Едином Государственном Реестре прав отсутствуют сведения о зарегистрированных правах.
A15: 12 | B15: 2738/тс | C15: Подобедов | D15: Сергей | E15: Иванович | G15: 40885 | H15: Котов | I15: в каб. 7 | K15: № 56 от 23.01.2012 | L15: имеются сведения о движении имущества (в собственности 70,4 м.кв - по данным Россреестра).
A16: 13 | B16: 2740/тс | C16: Пшеничный | D16: Александр | E16: Владимирович | G16: 40885 | H16: Котов | I16: в каб. 7 | L16: нет записи в реестре (спискок распределения)
A17: 14 | C17: Сергеев | D17: Дмитрий | E17: Вячеславович | G17: 40885 | H17: котов | K17: №54 от 12.01.12 (131,8) | L17: Сергеев Дмитрий Вячеславович, 22.02.1978 г. р. Наименование объекта: земельный участок Адрес: Малоярославец г, Малоярославецкий р-н, Московская ул, Д.101-а Площадь: 1.620,0 кв.м. Регистрационный номер: 40-40-13/020/2006-644 Кадастровый номер: 40:13:03 05 23:2032 Назначение объекта: Земли поселений Доля в праве: 1,00 Неформализованное описание: Калужская область, г.Малоярославец, ул.Московская, д.101-а Дата начала регистрации: 26.06.2006 Дата окончания регистрации: 13.09.2006 Документ: паспорт гражданина Российской Федерации , Серия: 63 03 , Номер: 459555 , 20.12.2002 Наименование объекта: земельный участок Адрес: Малоярославец г, Малоярославецкий р-н, Московская ул, Д.101-а Площадь: 800,0 кв.м. Регистрационный номер: 40-40-13/024/2006-294 Кадастровый номер: 40:13:03 05 23:2034 Назначение объекта: Земли поселений Доля в праве: 1,00 Неформализованное описание: Калужская область, г. Малоярославец, ул. Московская, д.101-а Дата начала регистрации: 13.09.2006 Дата окончания регистрации: 13.09.2006 Документ: паспорт гражданина Российской Федерации , Серия: 63 03 , Номер: 459555 , 20.12.2002 Наименование объекта: Жилой дом - объект индивидуального жилищного строи Адрес: Малоярославец г, Московская ул, Д.101В Площадь: 131,8 кв.м. Регистрационный номер: 40-40-13/013/2011-032 Кадастровый номер: 40:13:030523:2033:6 Назначение объекта: Жилое Доля в праве: 1,00 Неформализованное описание: Калужская область, Малоярославецкий район, г.Малоярославец, ул.Московская, д.101В Дата начала регистрации: 26.04.2011 Документ: паспорт гражданина Российской Федерации , Серия: 63 03 , Номер: 459555 , 20.12.2002 Наименование объекта: земельный участок Адрес: Малоярославец г, Малоярославецкий р-н, Московская ул, Д.101-а Площадь: 820,0 кв.м. Регистрационный номер: 40-40-13/024/2006-296 Кадастровый номер: 40:13:03 05 23:2033 Назначение объекта: Земли поселений Доля в праве: 1,00 Неформализованное описание: Калужская область, г. Малоярославец, ул. Московская, д. 101-а Дата начала регистрации: 13.09.2006 Документ: паспорт гражданина Российской Федерации , Серия: 63 03 , Номер: 459555 , 20.12.2002
A18: 15 | C18: Скоркин | D18: Александр | E18: Александрович | G18: 40885 | H18: котов | K18: №54 от 12.01.12 | L18: Скоркин Александр Александрович, 29.06.1966 г. р. Наименование объекта: Земельный участок Адрес: Енисейск г Площадь: 700,0 кв.м. Регистрационный номер: 0 Кадастровый номер: 24:47:0010701:95 Назначение объекта: для ведения садоводства Доля в праве: 1,00 Неформализованное описание: Красноярский край, г.Енисейск, садовое общество №2 Дата начала регистрации: 06.12.2010 Дата окончания регистрации: 06.12.2010 Документ: паспорт гражданина Российской Федерации , Серия: 04 04 , Номер: 624988 , 06.10.2005
A19: 16 | C19: Смирнов | D19: Евгений | E19: Геннадьевич | G19: 40885 | H19: котов | K19: №54 от 12.01.12 (120,4) | L19: Смирнов Евгений Геннадьевич, 14.04.1967 г. р. В Едином Государственном Реестре прав отсутствуют сведения о зарегистрированных правах. Смирнова Наталья Юрьевна, 27.05.1970 г. р. Наименование объекта: Двухкомнатная квартира Адрес: Шарыпово г, Пионерный мкр, Д.155, КВ.35 Площадь: 50,9 кв.м. Регистрационный номер: 24-24-27/001/2006-380 Кадастровый номер: 24:57:000000:0000:04:440:001:006800540:0001:10035 Назначение объекта: Жилое Доля в праве: 1,00 Неформализованное описание: Россия, Красноярский край, г. Шарыпово, Пионерный мкр-н, д. 155, кв.35 Дата начала регистрации: 26.02.2006 Дата окончания регистрации: 23.05.2006 Документ: паспорт гражданина Российской Федерации , Серия: 04 04 , Номер: 928200 , 23.06.2005 Наименование объекта: земельный участок Адрес: Солнечногорский р-н Площадь: 600,0 кв.м. Условный номер: 50:09:02:00061 Регистрационный номер: 01-09.3811 Кадастровый номер: 50-09-02-С014/178 Назначение объекта: для сельскохозяйственного производства Доля в праве: 1,00 Неформализованное описание: Московская область, Солнечногорский район, с.т."Лесная поляна", д.Новый стан, уч.178 Дата начала регистрации: 28.05.1998 Документ: паспорт гражданина СССР , Серия: 11-ЛБ , Номер: 534860 , 23.08.1995 Наименование объекта: Квартира Адрес: Димитрова ул, Д.16, КВ.250 Площадь: 37,5 кв.м. Условный номер: 1171108 Регистрационный номер: 98841702 Назначение объекта: Жилое Доля в праве: 1,00 Неформализованное описание: г.Санкт-Петербург, улица Димитрова д.16 кор.1 кв.250 Дата начала регистрации: 11.02.1998 Дата окончания регистрации: 16.12.2004 Документ: паспорт гражданина СССР , Серия: ХХ-АК , Номер: 738169 , 30.05.1989 Смирнова Анастасия Евгеньевна, 21.03.1990 г. р. Наименование объекта: Земельный участок Адрес: Раменский р-н Площадь: 1.228,0 кв.м. Регистрационный номер: 50-50-98/010/2010-404 Кадастровый номер: 50:23:0050384:164 Назначение объекта: для дачного строительства с правом возведения жило Доля в праве: 1,00 Неформализованное описание: Московская область, Раменский район, сельское поселение Рыболовское, земельный участок расположен в юго-западной части кадастрового квартала Дата начала регистрации: 23.03.2010 Документ: паспорт гражданина Российской Федерации , Серия: 45 06 , Номер: 558938 , 16.06.2004 Наименование объекта: Квартира Адрес: Маршала Захарова ул, Д.11, КВ.339 Площадь: 64,0 кв.м. Условный номер: 78-78-01/0706/2009-016 Регистрационный номер: 98857084 Назначение объекта: Жилое Доля в праве: 0,50 Неформализованное описание: г.Санкт-Петербург, улица Маршала Захарова д.11 кв.339 Дата начала регистрации: 12.02.1998 Документ: свидетельство о рождении , Серия: V-АК , Номер: 253417 , 20.10.1984
A20: 17 | C20: Стужук | D20: Николай | E20: Николаевич | G20: 40885 | H20: котов | K20: №54 от 12.01.12 | L20: Стужук Николай Николаевич, 08.07.1966 г. р. В Едином Государственном Реестре прав отсутствуют сведения о зарегистрированных правах. Стужук Светлана Николаевна, 06.12.1967 г. р. В Едином Государственном Реестре прав отсутствуют сведения о зарегистрированных правах. Стужук Сергей Николаевич, 18.05.1987 г. р. В Едином Государственном Реестре прав отсутствуют сведения о зарегистрированных правах. Стужук Александр Николаевич, 29.07.1993 г. р. В Едином Государственном Реестре прав отсутствуют сведения о зарегистрированных правах.
A21: 18 | C21: Тайсумов | D21: Алик | E21: Шахидович | G21: 40885 | H21: Котов | K21: №34 от 31.10.2011 | L21: Тайсумов Алик Шахидович, 28.05.1971 г. р. В Едином Государственном Реестре прав отсутствуют сведения о зарегистрированных правах. Тайсумова Татьяна Николаевна, 15.03.1974 г. р. В Едином Государственном Реестре прав отсутствуют сведения о зарегистрированных правах. Тайсумов Руслан Аликович, 02.04.1997 г. р. В Едином Государственном Реестре прав отсутствуют сведения о зарегистрированных правах.
A22: 19 | C22: Чеботарев | D22: Владимир | E22: Викторович | G22: 40885 | H22: котов | K22: №54 от 12.01.12 | L22: Чеботарев Владимир Викторович, 23.04.1964 г. р. В Едином Государственном Реестре прав отсутствуют сведения о зарегистрированных правах. Чеботарева Татьяна Валерьевна, 23.05.1905 г. р. В Едином Государственном Реестре прав отсутствуют сведения о зарегистрированных правах. Чеботарев Андрей Владимирович, 10.06.2009 г. р. Наименование объекта: помещение Адрес: Нижний Новгород г, Родионова ул, Д.163е, КВ.ГСК "Маяк" Площадь: 41,6 кв.м. Регистрационный номер: 52-52-01/273/2010-213 Кадастровый номер: 52:18:0060178:0:1/79 Назначение объекта: Нежилое Доля в праве: 1,00 Неформализованное описание: Нижегородская область, г.Нижний Новгород, Нижегородский район, ул.Родионова, д.163е, ГСК "Маяк", гараж №2/28 Дата начала регистрации: 01.07.2010 Документ: паспорт гражданина СССР , Серия: VI-PH , Номер: 726291 , 30.01.1980 Чеботарев Антон Владимирович, 20.12.1997 г. р. В Едином Государственном Реестре прав отсутствуют сведения о зарегистрированных правах.
A23: 20 | C23: Черниговцев | D23: Дмитрий | E23: Борисович | G23: 40885 | H23: котов | K23: №61 от 09.02.12 | L23: Черниговцев Дмитрий Борисович, 05.11.1969 г. р. В Едином Государственном Реестре прав отсутствуют сведения о зарегистрированных правах. Черниговцева Светлана Алексеевна, 22.05.1980 г. р. В Едином Государственном Реестре прав отсутствуют сведения о зарегистрированных правах. Черниговцев Андрей Дмитриевич, 20.11.2009 г. р. В Едином Государственном Реестре прав отсутствуют сведения о зарегистрированных правах. Черниговцева Екатерина Дмитриевна, 18.02.2003 г. р. В Едином Государственном Реестре прав отсутствуют сведения о зарегистрированных правах.
A24: 21 | B24: 3217/тс | C24: Лыч | D24: вячеслав | E24: Владимирович | G24: 40885 | H24: сердюк | I24: каб.№9 | K24: №46 от 08.12.11 | L24: Лыч Вячеслав Владимирович, 02.02.1972 г. р. В Едином Государственном Реестре прав отсутствуют сведения о зарегистрированных правах. Лыч Эльвира Разимовна, 19.10.1976 г. р. В Едином Государственном Реестре прав отсутствуют сведения о зарегистрированных правах. Лыч Владислав Вячеславович, 12.04.1995 г. р. В Едином Государственном Реестре прав отсутствуют сведения о зарегистрированных правах. Лыч Виталий Вячеславович, 20.01.2002 г. р. В Едином Государственном Реестре прав отсутствуют сведения о зарегистрированных правах.
A25: 22 | B25: ДП | C25: Минин | D25: Илья | E25: Леонидович | G25: 40885 | H25: сердюк | I25: запрос №46 от 08.12.2011 | K25: В едином государственном реестре прав отсутствуют сведения о зарегистрированных правах (по всем членам семьи)
A26: 23 | C26: Воронин | D26: Игорь | E26: Витальевич | G26: 40885 | K26: №88 от 09.04.2012 (40,9) | L26: Воронин Игорь Витальевич, 09.12.1967 г. р. В Едином Государственном Реестре прав отсутствуют сведения о зарегистрированных правах. Воронина Надежда Николаевна, 17.08.1966 г. р. Наименование объекта: Земельный участок Адрес: Раменский р-н Площадь: 964,0 кв.м. Условный номер: 50:23:09:02515 Регистрационный номер: 50-01.23-14.1999-680.2 Кадастровый номер: 50-23-9-2.1-771-945 Назначение объекта: для ведения личного подсобного хозяйства (полевой) Доля в праве: 1,00 Неформализованное описание: Московская область, Раменский район, Вялковский с/о, дер.Вялки, уч.771 Дата начала регистрации: 29.12.1999 Документ: паспорт гражданина СССР , Серия: XIV-ИК , Номер: 657668 , 05.09.1979 Наименование объекта: 3-комнатная квартира Адрес: Лосино-Петровский г, Первомайская ул, д.13, кв.29 Площадь: 61,9 кв.м. Условный номер: 50:14.1:17:00713:001:0024 Регистрационный номер: 50-01.14.1-01.2002-497.03 Назначение объекта: Жилое Доля в праве: 0,33 Неформализованное описание: Московская область, г.Лосино-Петровский, ул.Первомайская, д.13, кв.29 Дата начала регистрации: 19.04.2002 Дата окончания регистрации: 25.04.2011 Документ: паспорт гражданина СССР , Серия: XXVII-ИК , Номер: 614485 , 19.01.1989 Воронин евгений игоревич, 02.12.1989 г. р. Наименование объекта: 3-комнатная квартира Адрес: Лосино-Петровский г, Первомайская ул, д.13, кв.29 Площадь: 61,9 кв.м. Условный номер: 50:14.1:17:00713:001:0024 Регистрационный номер: 50-01.14.1-01.2002-497.04 Назначение объекта: Жилое Доля в праве: 0,33 Неформализованное описание: Московская область, г.Лосино-Петровский, ул.Первомайская, д.13, кв.29 Дата начала регистрации: 19.04.2002 Дата окончания регистрации: 11.04.2011 Документ: свидетельство о рождении , Серия: VIII-ИК , Номер: 482790 , 02.01.1990
A27: 24 | C27: Дема | D27: Владимир | E27: Николаевич | G27: 40885 | I27: дело в каб. 7 | K27: Нет в "Алуште" (дело уехало с Сердюком С.Б.) ВЕРНУЛОСЬ (со слов Маши)
A28: 25 | B28: 03-34/5481 | C28: макаров | D28: алексей | E28: викторович | G28: 40885 | K28: №54 (46,8) | L28: Макаров Алексей Викторович, 21.06.1966 г. р. В Едином Государственном Реестре прав отсутствуют сведения о зарегистрированных правах. Макарова Инна Алексеевна, 13.01.1966 г. р. Наименование объекта: Квартира Адрес: Площадь: 46,8 кв.м. Условный номер: 02-04-04/009/2006-369 Регистрационный номер: 02-04-04/016/2008-475 Назначение объекта: Жилое Доля в праве: 1,00 Неформализованное описание: Республика Башкортостан, г. Давлеканово, Карла Маркса, д.12, кв.13 Дата начала регистрации: 05.11.2008 Документ: паспорт гражданина Российской Федерации , Серия: 36 04 , Номер: 508548 , 05.09.2003 Макарова Евгения Алексеевна, 13.05.1996 г. р. В Едином Государственном Реестре прав отсутствуют сведения о зарегистрированных правах.
A29: 26 | C29: Хоменко | D29: Михаил | E29: петрович | G29: 40885 | K29: №56 | L29: забрал договор
A30: 27 | B30: 2748/тс | C30: Глузштейн | D30: Александр | E30: Маркович | G30: 40892 | H30: Котов | I30: в каб. 7 | K30: 40925 | L30: есть собственность (гараж, земельный участок)
A31: 28 | C31: Вахитов | D31: Сергей | E31: Сафуатович | G31: 40896 | H31: Захаров | I31: дело в каб. 7 | K31: №50 от 22.12.2011 | L31: в едином реестре сведения отсутствуют
A32: 29 | C32: Шумихин | D32: Михаил | E32: Юрьевич | G32: 40896 | H32: Захаров | I32: дело в каб. 7 | K32: №50 от 22.12.2011 | L32: имеются сведения о движении имущества (в собственности 79,2 м.кв - по данным Россреестра).
A33: 30 | B33: 2702/тс | C33: Панихидкин | D33: Николай | E33: Федорович | G33: 40896 | I33: в каб. 7 | L33: №43 есть собственность
A34: 31 | C34: Воронин | D34: Николай | E34: Юрьевич | G34: 40898 | H34: Захаров | I34: дело в каб. 7 | K34: №50 от 22.12.2011 | L34: в едином реестре сведения отсутствуют
A35: 32 | C35: Голуб | D35: Татьяна | E35: Анатольевна | G35: 40898 | H35: Захаров | I35: дело в каб. 7 | K35: №50 от 22.12.2011 | L35: в едином реестре сведения отсутствуют
A36: 33 | C36: Ляпустин | D36: Дмитрий | E36: Анатольевич | G36: 40898 | H36: Захаров | I36: дело в каб. 7 | K36: №50 от 22.12.2011 | L36: в едином реестре сведения отсутствуют
A37: 34 | C37: Маштаков | D37: Сергей | E37: Александрович | G37: 40898 | H37: Захаров | I37: дело в каб. 7 | K37: №50 от 22.12.2011 | L37: в едином реестре сведения отсутствуют
A38: 35 | C38: Осипов | D38: Александр | E38: Александрович | G38: 40898 | H38: Захаров | I38: дело в каб. 7 | K38: №50 от 22.12.2011 | L38: имеются сведения о движении имущества (в собственности 105,1 м.кв - по данным Россреестра).
A39: 36 | C39: Семчик | D39: Юлия | E39: Евгеньевна | G39: 40898 | H39: Захаров | I39: дело в каб. 7 | K39: №50 от 22.12.2011 | L39: в едином реестре сведения отсутствуют
A40: 37 | C40: Бадрак | D40: Виктор | E40: Валерьевич | G40: 40899 | H40: Захаров | I40: дело в каб. 7 | K40: №51 от 26.12.2011 | L40: в едином реестре сведения отсутствуют
...

Sheet Отчет
A1: Всего | B1: =SUM(B5:B1001) -> 2735 | D1: =SUM(D5:D1001) -> 2086 | F1: 1893
A2: Дата | B2: Запросы | D2: Ответы
B3: За день | C3: Всего | D3: За день | E3: Всего
A4: 40878 | B4: 0 | C4: 0 | D4: =COUNTIF(запросы!$J$4:$J$30001,Отчет!A4)+F4 -> 0 | E4: 0 | F4: 0
A5: 40885 | B5: =COUNTIF(запросы!$G$4:$G$30001,Отчет!A5) -> 26 | C5: =B5 -> 26 | D5: =COUNTIF(запросы!$J$4:$J$30001,Отчет!A5)+F5 -> 1 | E5: =F5 -> 0 | F5: 0
A6: 40892 | B6: =COUNTIF(запросы!$G$4:$G$30001,Отчет!A6) -> 1 | C6: =C5+B6 -> 27 | D6: =COUNTIF(запросы!$J$4:$J$30001,Отчет!A6)+F6 -> 0 | E6: =E5+F6 -> 0 | F6: 0
A7: 40896 | B7: =COUNTIF(запросы!$G$4:$G$30001,Отчет!A7) -> 3 | C7: =C6+B7 -> 30 | D7: =COUNTIF(запросы!$J$4:$J$30001,Отчет!A7)+F7 -> 0 | E7: =E6+F7 -> 0 | F7: 0
A8: 40898 | B8: =COUNTIF(запросы!$G$4:$G$30001,Отчет!A8) -> 6 | C8: =C7+B8 -> 36 | D8: =COUNTIF(запросы!$J$4:$J$30001,Отчет!A8)+F8 -> 0 | E8: =E7+F8 -> 0 | F8: 0
A9: 40899 | B9: =COUNTIF(запросы!$G$4:$G$30001,Отчет!A9) -> 19 | C9: =C8+B9 -> 55 | D9: =COUNTIF(запросы!$J$4:$J$30001,Отчет!A9)+F9 -> 29 | E9: =E8+F9 -> 29 | F9: 29
A10: 40925 | B10: =COUNTIF(запросы!$G$4:$G$30001,Отчет!A10) -> 1 | C10: =C9+B10 -> 56 | D10: =COUNTIF(запросы!$J$4:$J$30001,Отчет!A10)+F10 -> 0 | E10: =E9+F10 -> 29 | F10: 0
A11: 40926 | B11: =COUNTIF(запросы!$G$4:$G$30001,Отчет!A11) -> 0 | C11: =C10+B11 -> 56 | D11: =COUNTIF(запросы!$J$4:$J$30001,Отчет!A11)+F11 -> 0 | E11: =E10+F11 -> 29
A12: 40927 | B12: =COUNTIF(запросы!$G$4:$G$30001,Отчет!A12) -> 42 | C12: =C11+B12 -> 98 | D12: =COUNTIF(запросы!$J$4:$J$30001,Отчет!A12)+F12 -> 27 | E12: =E11+F12 -> 56 | F12: 27
A13: 40928 | B13: =COUNTIF(запросы!$G$4:$G$30001,Отчет!A13) -> 42 | C13: =C12+B13 -> 140 | D13: =COUNTIF(запросы!$J$4:$J$30001,Отчет!A13)+F13 -> 42 | E13: =E12+F13 -> 98 | F13: 42
A14: 40929 | B14: =COUNTIF(запросы!$G$4:$G$30001,Отчет!A14) -> 0 | C14: =C13+B14 -> 140 | D14: =COUNTIF(запросы!$J$4:$J$30001,Отчет!A14)+F14 -> 0 | E14: =E13+F14 -> 98 | F14: 0
A15: 40930 | B15: =COUNTIF(запросы!$G$4:$G$30001,Отчет!A15) -> 0 | C15: =C14+B15 -> 140 | D15: =COUNTIF(запросы!$J$4:$J$30001,Отчет!A15)+F15 -> 0 | E15: =E14+F15 -> 98 | F15: 0
A16: 40931 | B16: =COUNTIF(запросы!$G$4:$G$30001,Отчет!A16) -> 40 | C16: =C15+B16 -> 180 | D16: =COUNTIF(запросы!$J$4:$J$30001,Отчет!A16)+F16 -> 41 | E16: =E15+F16 -> 139 | F16: 41
A17: 40932 | B17: =COUNTIF(запросы!$G$4:$G$30001,Отчет!A17) -> 63 | C17: =C16+B17 -> 243 | D17: =COUNTIF(запросы!$J$4:$J$30001,Отчет!A17)+F17 -> 64 | E17: =E16+F17 -> 203 | F17: 64
A18: 40933 | B18: =COUNTIF(запросы!$G$4:$G$30001,Отчет!A18) -> 0 | C18: =C17+B18 -> 243 | D18: =COUNTIF(запросы!$J$4:$J$30001,Отчет!A18)+F18 -> 0 | E18: =E17+F18 -> 203 | F18: 0
A19: 40934 | B19: =COUNTIF(запросы!$G$4:$G$30001,Отчет!A19) -> 0 | C19: =C18+B19 -> 243 | D19: =COUNTIF(запросы!$J$4:$J$30001,Отчет!A19)+F19 -> 0 | E19: =E18+F19 -> 203 | F19: 0
A20: 40935 | B20: =COUNTIF(запросы!$G$4:$G$30001,Отчет!A20) -> 0 | C20: =C19+B20 -> 243 | D20: =COUNTIF(запросы!$J$4:$J$30001,Отчет!A20)+F20 -> 0 | E20: =E19+F20 -> 203 | F20: 0
A21: 40936 | B21: =COUNTIF(запросы!$G$4:$G$30001,Отчет!A21) -> 0 | C21: =C20+B21 -> 243 | D21: =COUNTIF(запросы!$J$4:$J$30001,Отчет!A21)+F21 -> 0 | E21: =E20+F21 -> 203 | F21: 0
A22: 40937 | B22: =COUNTIF(запросы!$G$4:$G$30001,Отчет!A22) -> 0 | C22: =C21+B22 -> 243 | D22: =COUNTIF(запросы!$J$4:$J$30001,Отчет!A22)+F22 -> 0 | E22: =E21+F22 -> 203 | F22: 0
A23: 40938 | B23: =COUNTIF(запросы!$G$4:$G$30001,Отчет!A23) -> 0 | C23: =C22+B23 -> 243 | D23: =COUNTIF(запросы!$J$4:$J$30001,Отчет!A23)+F23 -> 0 | E23: =E22+F23 -> 203 | F23: 0
... A131: 41046 | B131: =COUNTIF(запросы!$G$4:$G$30001,Отчет!A131) -> 44 | C131: =C130+B131 -> 2482 | D131: =COUNTIF(запросы!$J$4:$J$30001,Отчет!A131)+F131 -> 5 | E131: =E130+F131 -> 1893 | F131: 5
A132: 41047 | B132: =COUNTIF(запросы!$G$4:$G$30001,Отчет!A132) -> 16 | C132: =C131+B132 -> 2498 | D132: =COUNTIF(запросы!$J$4:$J$30001,Отчет!A132)+F132 -> 0 | E132: =E131+D132 -> 1893
A133: 41048 | B133: =COUNTIF(запросы!$G$4:$G$30001,Отчет!A133) -> 17 | C133: =C132+B133 -> 2515 | D133: =COUNTIF(запросы!$J$4:$J$30001,Отчет!A133)+F133 -> 0 | E133: =E132+D133 -> 1893
A134: 41049 | B134: =COUNTIF(запросы!$G$4:$G$30001,Отчет!A134) -> 36 | C134: =C133+B134 -> 2551 | D134: =COUNTIF(запросы!$J$4:$J$30001,Отчет!A134)+F134 -> 0 | E134: =E133+D134 -> 1893
A135: 41050 | B135: =COUNTIF(запросы!$G$4:$G$30001,Отчет!A135) -> 87 | C135: =C134+B135 -> 2638 | D135: =COUNTIF(запросы!$J$4:$J$30001,Отчет!A135)+F135 -> 0 | E135: =E134+D135 -> 1893
A136: 41051 | B136: =COUNTIF(запросы!$G$4:$G$30001,Отчет!A136) -> 62 | C136: =C135+B136 -> 2700 | D136: =COUNTIF(запросы!$J$4:$J$30001,Отчет!A136)+F136 -> 0 | E136: =E135+D136 -> 1893
A137: 41052 | B137: =COUNTIF(запросы!$G$4:$G$30001,Отчет!A137) -> 14 | C137: =C136+B137 -> 2714 | D137: =COUNTIF(запросы!$J$4:$J$30001,Отчет!A137)+F137 -> 0 | E137: =E136+D137 -> 1893
A138: 41053 | B138: =COUNTIF(запросы!$G$4:$G$30001,Отчет!A138) -> 20 | C138: =C137+B138 -> 2734 | D138: =COUNTIF(запросы!$J$4:$J$30001,Отчет!A138)+F138 -> 0 | E138: =E137+D138 -> 1893
A139: 41054 | B139: =COUNTIF(запросы!$G$4:$G$30001,Отчет!A139) -> 1 | C139: =C138+B139 -> 2735 | D139: =COUNTIF(запросы!$J$4:$J$30001,Отчет!A139)+F139 -> 0 | E139: =E138+D139 -> 1893
A140: 41055 | B140: =COUNTIF(запросы!$G$4:$G$30001,Отчет!A140) -> 0 | C140: =C139+B140 -> 2735 | D140: =COUNTIF(запросы!$J$4:$J$30001,Отчет!A140)+F140 -> 0 | E140: =E139+D140 -> 1893
A141: 41056 | B141: =COUNTIF(запросы!$G$4:$G$30001,Отчет!A141) -> 0 | C141: =C140+B141 -> 2735 | D141: =COUNTIF(запросы!$J$4:$J$30001,Отчет!A141)+F141 -> 0 | E141: =E140+D141 -> 1893
A142: 41057 | B142: =COUNTIF(запросы!$G$4:$G$30001,Отчет!A142) -> 0 | C142: =C141+B142 -> 2735 | D142: =COUNTIF(запросы!$J$4:$J$30001,Отчет!A142)+F142 -> 0 | E142: =E141+D142 -> 1893
A143: 41058 | B143: =COUNTIF(запросы!$G$4:$G$30001,Отчет!A143) -> 0 | C143: =C142+B143 -> 2735 | D143: =COUNTIF(запросы!$J$4:$J$30001,Отчет!A143)+F143 -> 0 | E143: =E142+D143 -> 1893
... A359: 41274 | B359: =COUNTIF(запросы!$G$4:$G$30001,Отчет!A359) -> 0 | C359: =C358+B359 -> 2735 | D359: =COUNTIF(запросы!$J$4:$J$30001,Отчет!A359)+F359 -> 0 | E359: =E358+D359 -> 1893
