Workbook

Sheet запросы
H1: ="Отправлено запросов: "&TEXT(COUNTA(G4:G10006),0)&"" -> Отправлено запросов: 2735 | I1: ="Пришло ответов: "&TEXT(COUNTA(L4:L10006),0)&" из них сегодня: "&TEXT(COUNTA(L4:L10006)-1906,0)&"" -> Пришло ответов: 2086 из них сегодня: 180
A2: № п/п | B2: №дсн | C2: Фамилия | D2: Имя | E2: Отчество | F2: Личный номер | G2: Дата запроса | H2: Кто оформил | I2: Примечание | J2: Запрос | L2: ответ
J3: Дата | K3: Площадь
A4: 1 | C4: Башкатов | D4: Юрий | E4: Юрьевич | G4: 40885 | H4: Котов | K4: №54 от 12.01.12 | L4: Башкатов Юрий Юрьевич, 24.07.1975 г. р. Адрес: Зеленокумск, Советский, Новая, Д.возле дома Площадь: 22,3 кв.м. Регистрационный номер: 26-26-27/008/2006-347 Кадастровый номер: 26:27:061501:0209:07:250:002:000001630:К:20026 Назначение объекта: Нежилое здание Доля в праве: 1,00 Неформализованное описание: Ставропольский край, Советский район, город Зеленокумск, улица Новая, возле дома 8 Дата начала регистрации: 29.06.2006 Дата окончания регистрации: 14.09.2006 Документ: Паспорт гражданина Российской Федерации , Серия: 07 00 , Номер: 219047 , 18.01.2001 Адрес: Зеленокумск, Советский, Владикавказский, Д.23 Площадь: 600,0 кв.м. Регистрационный номер: 26-01/27-1/1999-222 Кадастровый номер: 26:27:060802:0200 Назначение объекта: Земли населенных пунктов Доля в праве: 1,00 Неформализованное описание: Ставропольский край, Советский район, город Зеленокумск, переулок Владикавказский, 23 Дата начала регистрации: 20.09.1999 Дата окончания регистрации: 19.02.2008 Документ: Паспорт гражданина Российской Федерации , Серия: 07 00 , Номер: 219047 , 18.01.2001 Башкатова Лилиана Васильевна, 04.01.1975 г. р. В Едином Государственном Реестре прав отсутствуют сведения о зарегистрированных правах. Башкатов Александр Юрьевич, 27.03.2001 г. р. В Едином Государственном Реестре прав отсутствуют сведения о зарегистрированных правах. Башкатова Екатерина Юрьевна, 25.05.2004 г. р. В Едином Государственном Реестре прав отсутствуют сведения о зарегистрированных правах.
A5: 2 | B5: 3156/тс | C5: Бисеров | D5: Сергей | E5: Александрович | G5: 40885 | H5: Котов | I5: в каб. 7 | K5: № 31 от 03.10.2011 | L5: в едином реестре сведения отсутствуют есть данные о перемещении имущества
A6: 3 | C6: Борисова | D6: Ирина | E6: Валентиновна | G6: 40885 | H6: котов | K6: №54 от 12.01.12 (21,2) | L6: Борисова Ирина Валентиновна, 16.04.1963 г. р. Наименование объекта: Земельный участок Адрес: Дзержинский р-н Площадь: 1.500,0 кв.м. Регистрационный номер: 40-40-04/034/2008-180 Кадастровый номер: 40:04:121201:43 Назначение объекта: Для ведения личного подсобного хозяйства (приусаде Доля в праве: 1,00 Неформализованное описание: Калужская область, Дзержинский район, д.Юдинки Дата начала регистрации: 05.12.2008 Дата окончания регистрации: 22.12.2008 Документ: паспорт гражданина Российской Федерации , Серия: 46 08 , Номер: 041165 , 12.05.2008 Борисова Татьяна Сергеевна, 11.11.1992 г. р. Наименование объекта: 2-комнатная квартира Адрес: Лобня г, Ленина ул, Д.45, КВ.39 Площадь: 42,4 кв.м. Условный номер: 50:41:02:00017:001:0005 Регистрационный номер: 50-01.41-03.1999-235.1 Назначение объекта: Жилое Доля в праве: 0,50 Неформализованное описание: Московская область, г.Лобня, ул.Ленина, д.45, кв.39 Дата начала регистрации: 30.04.1999 Дата окончания регистрации: 23.03.2000 Документ: паспорт гражданина СССР , Серия: I-ИК , Номер: 310132 , 15.03.1995 Наименование объекта: Жилое помещение Адрес: Лобня г, Космонавтов ул, Д.7, КВ.1 Площадь: 28,7 кв.м. Условный номер: 50:41:02:00081:001:0007 Регистрационный номер: 50-01.41-02.2000-222.1 Назначение объекта: квартира Доля в праве: 1,00 Неформализованное описание: Московская область, г.Лобня, ул.Космонавтов, д.7, кв.1 Дата начала регистрации: 23.03.2000 Документ: паспорт гражданина СССР , Серия: I-ИК , Номер: 310132 , 15.03.1995
A7: 4 | C7: Волоскович | D7: Сергей | E7: Анатольевич | G7: 40885 | H7: Котов | K7: №54 от 12.01.12 | L7: Волоскович Сергей Анатольевич, 14.11.1974 г. р. В Едином Государственном Реестре прав отсутствуют сведения о зарегистрированных правах.
A8: 5 | C8: Кисляков | D8: Роман | E8: Геннадьевич | G8: 40885 | H8: котов | K8: №54 от 12.01.12 (18,6) | L8: Кисляков Роман Геннадьевич, 24.04.1971 г. р. В Едином Государственном Реестре прав отсутствуют сведения о зарегистрированных правах. Кислякова Ирина Николаевна, 13.11.1970 г. р. Наименование объекта: Квартира Адрес: Владимир г, Строителей пр-кт, Д.38-а, КВ.55 Площадь: 56,4 кв.м. Регистрационный номер: 33-33-01/071/2006-42 Кадастровый номер: 33:22:00000:000:17:401:001:002006100:0001:10055 Назначение объекта: Жилое Доля в праве: 0,33 Неформализованное описание: Владимирская область, г. Владимир, пр-кт Строителей, д. 38-а, квартира № 55 Дата начала регистрации: 09.11.2006 Дата окончания регистрации: 09.11.2006 Документ: паспорт гражданина Российской Федерации , Серия: 81 00 , Номер: 104262 , 07.12.2001 Кисляков Евгений Романович, 19.10.1995 г. р. В Едином Государственном Реестре прав отсутствуют сведения о зарегистрированных правах. Кисляков Алексей Романович, 03.04.2002 г. р. В Едином Государственном Реестре прав отсутствуют сведения о зарегистрированных правах.
A9: 6 | C9: Костеньков | D9: Алексей | E9: Васильевич | G9: 40885 | H9: котов | K9: №54 от 12.01.12 (30,5) | L9: Костеньков Алексей Васильевич, 30.03.1968 г. р. Адрес: Елец, Вермишева, Д.13, КВ.53 Площадь: 30,5 кв.м. Регистрационный номер: 48-01/19-3/2001-498 Кадастровый номер: 48:19:0:0:12518\01:0053\А Назначение объекта: жилое Доля в праве: 1,00 Неформализованное описание: Липецкая обл., г. Елец, ул. Вермишева, д.13 кв.53 Дата начала регистрации: 09.08.2001 Дата окончания регистрации: 09.08.2001 Документ: , Серия: ДФ , Номер: 057404 , 23.06.1991 Костенькова Инна Геннадьевна, 14.07.1965 г. р. В Едином Государственном Реестре прав отсутствуют сведения о зарегистрированных правах. Костенькова Ксения Алексеевна, 23.08.1993 г. р. В Едином Государственном Реестре прав отсутствуют сведения о зарегистрированных правах. Костенькова Вера Алексеевна, 06.09.2004 г. р. В Едином Государственном Реестре прав отсутствуют сведения о зарегистрированных правах.
A10: 7 | C10: Кузовлев | D10: Дмитрий | E10: Вячеславович | G10: 40885 | H10: Котов | K10: №55 от 17.01.2012 | L10: Кузовлев Дмитрий Вячеславович, 25.09.1971 г. р. В Едином Государственном Реестре прав отсутствуют сведения о зарегистрированных правах. Кузовлева Елена Александровна, 25.12.1975 г. р. В Едином Государственном Реестре прав отсутствуют сведения о зарегистрированных правах. Кузовлев Никита Дмитриевич, 24.08.1996 г. р. В Едином Государственном Реестре прав отсутствуют сведения о зарегистрированных правах. Кузовлева Аделина Дмитриевна, 07.08.2002 г. р. В Едином Государственном Реестре прав отсутствуют сведения о зарегистрированных правах. Кузовлева Милана Дмитриевна, 04.04.2007 г. р. В Едином Государственном Реестре прав отсутствуют сведения о зарегистрированных правах.
A11: 8 | C11: Курьин | D11: Александр | E11: Борисович | G11: 40885 | H11: Котов | K11: №54 от 12.01.12 | L11: Курьин Александр Борисович, 30.04.1980 г. р. В Едином Государственном Реестре прав отсутствуют сведения о зарегистрированных правах. Курьина Ольга Алексеевна, 01.02.1981 г. р. В Едином Государственном Реестре прав отсутствуют сведения о зарегистрированных правах. Курьин Вячеслав Александрович, 01.04.2005 г. р. В Едином Государственном Реестре прав отсутствуют сведения о зарегистрированных правах. Курьина Вероника Александровна, 19.08.2010 г. р. В Едином Государственном Реестре прав отсутствуют сведения о зарегистрированных правах.
A12: 9 | C12: Линчевский | D12: Александр | E12: Юрьевич | G12: 40885 | H12: Котов | K12: №54 от 12.01.12 | L12: Линчевский Александр Юрьевич, 06.10.1963 г. р. В Едином Государственном Реестре прав отсутствуют сведения о зарегистрированных правах. Линчевская Наталия Владимировна, 08.02.1965 г. р. В Едином Государственном Реестре прав отсутствуют сведения о зарегистрированных правах. Линческий Александр Александрович, 27.11.1985 г. р. В Едином Государственном Реестре прав отсутствуют сведения о зарегистрированных правах. Линчевская Ирина Александровна, 11.08.1990 г. р. В Едином Государственном Реестре прав отсутствуют сведения о зарегистрированных правах.
A13: 10 | C13: Нецветаев | D13: Николай | E13: Сергеевич | G13: 40885 | H13: котов | K13: №54 от 12.01.12 | L13: Нецветаев Николай Сергеевич, 01.05.1962 г. р. В Едином Государственном Реестре прав отсутствуют сведения о зарегистрированных правах. Нецветаева Людмила Михайловна, 18.10.1967 г. р. В Едином Государственном Реестре прав отсутствуют сведения о зарегистрированных правах.
A14: 11 | C14: Пиварчук | D14: Александр | E14: Леонидович | G14: 40885 | H14: Котов | K14: №54 от 12.01.2012 (18,2) | L14: Пиварчук Александр Леонидович, 08.06.1971 г. р. В Едином Государственном Реестре прав отсутствуют сведения о зарегистрированных правах. Пиварчук Ирина Петровна, 15.07.1971 г. р. Адрес: Новочеркасск, Володарского, Д.19 Площадь: 36,3 кв.м. Условный номер: 61:55:0 0 0:8807:5359:А Регистрационный номер: 61-61-32/083/2005-714 Назначение объекта: жилое Доля в праве: 0,50 Неформализованное описание: Россия, Ростовская обл., г. Новочеркасск, пер. Володарского, дом №19 Дата начала регистрации: 23.01.2006 Дата окончания регистрации: 24.03.2006 Документ: Паспорт гражданина Российской Федерации , Серия: 05 00 , Номер: 107055 , 19.06.2000 Адрес: Новочеркасск, Володарского, Д.19 Площадь: 31,8 кв.м. Условный номер: 61:55:0 0 0:9335:5359:В Регистрационный номер: 61-61-32/083/2005-716 Назначение объекта: нежилое Доля в праве: 0,50 Неформализованное описание: Россия, Ростовская обл., г. Новочеркасск, пер. Володарского, дом №19 Дата начала регистрации: 23.01.2006 Дата окончания регистрации: 24.03.2006 Документ: Паспорт гражданина Российской Федерации , Серия: 05 00 , Номер: 107055 , 19.06.2000 Адрес: Новочеркасск, Володарского, Д.19 Площадь: 20,1 кв.м. Условный номер: 61:55:0 0 0:9336:5359:Б Регистрационный номер: 61-61-32/083/2005-718 Назначение объекта: нежилое Доля в праве: 0,50 Неформализованное описание: Россия, Ростовская обл., г. Новочеркасск, пер. Володарского, дом №19 Дата начала регистрации: 23.01.2006 Дата окончания регистрации: 24.03.2006 Документ: Паспорт гражданина Российской Федерации , Серия: 05 00 , Номер: 107055 , 19.06.2000 Пиварчук Алексей Александрович, 18.01.1995 г. р. В Едином Государственном Реестре прав отсутствуют сведения о зарегистрированных правах.
A15: 12 | B15: 2738/тс | C15: Подобедов | D15: Сергей | E15: Иванович | G15: 40885 | H15: Котов | I15: в каб. 7 | K15: № 56 от 23.01.2012 | L15: имеются сведения о движении имущества (в собственности 70,4 м.кв - по данным Россреестра).
A16: 13 | B16: 2740/тс | C16: Пшеничный | D16: Александр | E16: Владимирович | G16: 40885 | H16: Котов | I16: в каб. 7 | L16: нет записи в реестре (спискок распределения)
A17: 14 | C17: Сергеев | D17: Дмитрий | E17: Вячеславович | G17: 40885 | H17: котов | K17: №54 от 12.01.12 (131,8) | L17: Сергеев Дмитрий Вячеславович, 22.02.1978 г. р. Наименование объекта: земельный участок Адрес: Малоярославец г, Малоярославецкий р-н, Московская ул, Д.101-а Площадь: 1.620,0 кв.м. Регистрационный номер: 40-40-13/020/2006-644 Кадастровый номер: 40:13:03 05 23:2032 Назначение объекта: Земли поселений Доля в праве: 1,00 Неформализованное описание: Калужская область, г.Малоярославец, ул.Московская, д.101-а Дата начала регистрации: 26.06.2006 Дата окончания регистрации: 13.09.2006 Документ: паспорт гражданина Российской Федерации , Серия: 63 03 , Номер: 459555 , 20.12.2002 Наименование объекта: земельный участок Адрес: Малоярославец г, Малоярославецкий р-н, Московская ул, Д.101-а Площадь: 800,0 кв.м. Регистрационный номер: 40-40-13/024/2006-294 Кадастровый номер: 40:13:03 05 23:2034 Назначение объекта: Земли поселений Доля в праве: 1,00 Неформализованное описание: Калужская область, г. Малоярославец, ул. Московская, д.101-а Дата начала регистрации: 13.09.2006 Дата окончания регистрации: 13.09.2006 Документ: паспорт гражданина Российской Федерации , Серия: 63 03 , Номер: 459555 , 20.12.2002 Наименование объекта: Жилой дом - объект индивидуального жилищного строи Адрес: Малоярославец г, Московская ул, Д.101В Площадь: 131,8 кв.м. Регистрационный номер: 40-40-13/013/2011-032 Кадастровый номер: 40:13:030523:2033:6 Назначение объекта: Жилое Доля в праве: 1,00 Неформализованное описание: Калужская область, Малоярославецкий район, г.Малоярославец, ул.Московская, д.101В Дата начала регистрации: 26.04.2011 Документ: паспорт гражданина Российской Федерации , Серия: 63 03 , Номер: 459555 , 20.12.2002 Наименование объекта: земельный участок Адрес: Малоярославец г, Малоярославецкий р-н, Московская ул, Д.101-а Площадь: 820,0 кв.м. Регистрационный номер: 40-40-13/024/2006-296 Кадастровый номер: 40:13:03 05 23:2033 Назначение объекта: Земли поселений Доля в праве: 1,00 Неформализованное описание: Калужская область, г. Малоярославец, ул. Московская, д. 101-а Дата начала регистрации: 13.09.2006 Документ: паспорт гражданина Российской Федерации , Серия: 63 03 , Номер: 459555 , 20.12.2002
A18: 15 | C18: Скоркин | D18: Александр | E18: Александрович | G18: 40885 | H18: котов | K18: №54 от 12.01.12 | L18: Скоркин Александр Александрович, 29.06.1966 г. р. Наименование объекта: Земельный участок Адрес: Енисейск г Площадь: 700,0 кв.м. Регистрационный номер: 0 Кадастровый номер: 24:47:0010701:95 Назначение объекта: для ведения садоводства Доля в праве: 1,00 Неформализованное описание: Красноярский край, г.Енисейск, садовое общество №2 Дата начала регистрации: 06.12.2010 Дата окончания регистрации: 06.12.2010 Документ: паспорт гражданина Российской Федерации , Серия: 04 04 , Номер: 624988 , 06.10.2005
A19: 16 | C19: Смирнов | D19: Евгений | E19: Геннадьевич | G19: 40885 | H19: котов | K19: №54 от 12.01.12 (120,4) | L19: Смирнов Евгений Геннадьевич, 14.04.1967 г. р. В Едином Государственном Реестре прав отсутствуют сведения о зарегистрированных правах. Смирнова Наталья Юрьевна, 27.05.1970 г. р. Наименование объекта: Двухкомнатная квартира Адрес: Шарыпово г, Пионерный мкр, Д.155, КВ.35 Площадь: 50,9 кв.м. Регистрационный номер: 24-24-27/001/2006-380 Кадастровый номер: 24:57:000000:0000:04:440:001:006800540:0001:10035 Назначение объекта: Жилое Доля в праве: 1,00 Неформализованное описание: Россия, Красноярский край, г. Шарыпово, Пионерный мкр-н, д. 155, кв.35 Дата начала регистрации: 26.02.2006 Дата окончания регистрации: 23.05.2006 Документ: паспорт гражданина Российской Федерации , Серия: 04 04 , Номер: 928200 , 23.06.2005 Наименование объекта: земельный участок Адрес: Солнечногорский р-н Площадь: 600,0 кв.м. Условный номер: 50:09:02:00061 Регистрационный номер: 01-09.3811 Кадастровый номер: 50-09-02-С014/178 Назначение объекта: для сельскохозяйственного производства Доля в праве: 1,00 Неформализованное описание: Московская область, Солнечногорский район, с.т."Лесная поляна", д.Новый стан, уч.178 Дата начала регистрации: 28.05.1998 Документ: паспорт гражданина СССР , Серия: 11-ЛБ , Номер: 534860 , 23.08.1995 Наименование объекта: Квартира Адрес: Димитрова ул, Д.16, КВ.250 Площадь: 37,5 кв.м. Условный номер: 1171108 Регистрационный номер: 98841702 Назначение объекта: Жилое Доля в праве: 1,00 Неформализованное описание: г.Санкт-Петербург, улица Димитрова д.16 кор.1 кв.250 Дата начала регистрации: 11.02.1998 Дата окончания регистрации: 16.12.2004 Документ: паспорт гражданина СССР , Серия: ХХ-АК , Номер: 738169 , 30.05.1989 Смирнова Анастасия Евгеньевна, 21.03.1990 г. р. Наименование объекта: Земельный участок Адрес: Раменский р-н Площадь: 1.228,0 кв.м. Регистрационный номер: 50-50-98/010/2010-404 Кадастровый номер: 50:23:0050384:164 Назначение объекта: для дачного строительства с правом возведения жило Доля в праве: 1,00 Неформализованное описание: Московская область, Раменский район, сельское поселение Рыболовское, земельный участок расположен в юго-западной части кадастрового квартала Дата начала регистрации: 23.03.2010 Документ: паспорт гражданина Российской Федерации , Серия: 45 06 , Номер: 558938 , 16.06.2004 Наименование объекта: Квартира Адрес: Маршала Захарова ул, Д.11, КВ.339 Площадь: 64,0 кв.м. Условный номер: 78-78-01/0706/2009-016 Регистрационный номер: 98857084 Назначение объекта: Жилое Доля в праве: 0,50 Неформализованное описание: г.Санкт-Петербург, улица Маршала Захарова д.11 кв.339 Дата начала регистрации: 12.02.1998 Документ: свидетельство о рождении , Серия: V-АК , Номер: 253417 , 20.10.1984
A20: 17 | C20: Стужук | D20: Николай | E20: Николаевич | G20: 40885 | H20: котов | K20: №54 от 12.01.12 | L20: Стужук Николай Николаевич, 08.07.1966 г. р. В Едином Государственном Реестре прав отсутствуют сведения о зарегистрированных правах. Стужук Светлана Николаевна, 06.12.1967 г. р. В Едином Государственном Реестре прав отсутствуют сведения о зарегистрированных правах. Стужук Сергей Николаевич, 18.05.1987 г. р. В Едином Государственном Реестре прав отсутствуют сведения о зарегистрированных правах. Стужук Александр Николаевич, 29.07.1993 г. р. В Едином Государственном Реестре прав отсутствуют сведения о зарегистрированных правах.
A21: 18 | C21: Тайсумов | D21: Алик | E21: Шахидович | G21: 40885 | H21: Котов | K21: №34 от 31.10.2011 | L21: Тайсумов Алик Шахидович, 28.05.1971 г. р. В Едином Государственном Реестре прав отсутствуют сведения о зарегистрированных правах. Тайсумова Татьяна Николаевна, 15.03.1974 г. р. В Едином Государственном Реестре прав отсутствуют сведения о зарегистрированных правах. Тайсумов Руслан Аликович, 02.04.1997 г. р. В Едином Государственном Реестре прав отсутствуют сведения о зарегистрированных правах.
A22: 19 | C22: Чеботарев | D22: Владимир | E22: Викторович | G22: 40885 | H22: котов | K22: №54 от 12.01.12 | L22: Чеботарев Владимир Викторович, 23.04.1964 г. р. В Едином Государственном Реестре прав отсутствуют сведения о зарегистрированных правах. Чеботарева Татьяна Валерьевна, 23.05.1905 г. р. В Едином Государственном Реестре прав отсутствуют сведения о зарегистрированных правах. Чеботарев Андрей Владимирович, 10.06.2009 г. р. Наименование объекта: помещение Адрес: Нижний Новгород г, Родионова ул, Д.163е, КВ.ГСК "Маяк" Площадь: 41,6 кв.м. Регистрационный номер: 52-52-01/273/2010-213 Кадастровый номер: 52:18:0060178:0:1/79 Назначение объекта: Нежилое Доля в праве: 1,00 Неформализованное описание: Нижегородская область, г.Нижний Новгород, Нижегородский район, ул.Родионова, д.163е, ГСК "Маяк", гараж №2/28 Дата начала регистрации: 01.07.2010 Документ: паспорт гражданина СССР , Серия: VI-PH , Номер: 726291 , 30.01.1980 Чеботарев Антон Владимирович, 20.12.1997 г. р. В Едином Государственном Реестре прав отсутствуют сведения о зарегистрированных правах.
A23: 20 | C23: Черниговцев | D23: Дмитрий | E23: Борисович | G23: 40885 | H23: котов | K23: №61 от 09.02.12 | L23: Черниговцев Дмитрий Борисович, 05.11.1969 г. р. В Едином Государственном Реестре прав отсутствуют сведения о зарегистрированных правах. Черниговцева Светлана Алексеевна, 22.05.1980 г. р. В Едином Государственном Реестре прав отсутствуют сведения о зарегистрированных правах. Черниговцев Андрей Дмитриевич, 20.11.2009 г. р. В Едином Государственном Реестре прав отсутствуют сведения о зарегистрированных правах. Черниговцева Екатерина Дмитриевна, 18.02.2003 г. р. В Едином Государственном Реестре прав отсутствуют сведения о зарегистрированных правах.
A24: 21 | B24: 3217/тс | C24: Лыч | D24: вячеслав | E24: Владимирович | G24: 40885 | H24: сердюк | I24: каб.№9 | K24: №46 от 08.12.11 | L24: Лыч Вячеслав Владимирович, 02.02.1972 г. р. В Едином Государственном Реестре прав отсутствуют сведения о зарегистрированных правах. Лыч Эльвира Разимовна, 19.10.1976 г. р. В Едином Государственном Реестре прав отсутствуют сведения о зарегистрированных правах. Лыч Владислав Вячеславович, 12.04.1995 г. р. В Едином Государственном Реестре прав отсутствуют сведения о зарегистрированных правах. Лыч Виталий Вячеславович, 20.01.2002 г. р. В Едином Государственном Реестре прав отсутствуют сведения о зарегистрированных правах.
A25: 22 | B25: ДП | C25: Минин | D25: Илья | E25: Леонидович | G25: 40885 | H25: сердюк | I25: запрос №46 от 08.12.2011 | K25: В едином государственном реестре прав отсутствуют сведения о зарегистрированных правах (по всем членам семьи)
A26: 23 | C26: Воронин | D26: Игорь | E26: Витальевич | G26: 40885 | K26: №88 от 09.04.2012 (40,9) | L26: Воронин Игорь Витальевич, 09.12.1967 г. р. В Едином Государственном Реестре прав отсутствуют сведения о зарегистрированных правах. Воронина Надежда Николаевна, 17.08.1966 г. р. Наименование объекта: Земельный участок Адрес: Раменский р-н Площадь: 964,0 кв.м. Условный номер: 50:23:09:02515 Регистрационный номер: 50-01.23-14.1999-680.2 Кадастровый номер: 50-23-9-2.1-771-945 Назначение объекта: для ведения личного подсобного хозяйства (полевой) Доля в праве: 1,00 Неформализованное описание: Московская область, Раменский район, Вялковский с/о, дер.Вялки, уч.771 Дата начала регистрации: 29.12.1999 Документ: паспорт гражданина СССР , Серия: XIV-ИК , Номер: 657668 , 05.09.1979 Наименование объекта: 3-комнатная квартира Адрес: Лосино-Петровский г, Первомайская ул, д.13, кв.29 Площадь: 61,9 кв.м. Условный номер: 50:14.1:17:00713:001:0024 Регистрационный номер: 50-01.14.1-01.2002-497.03 Назначение объекта: Жилое Доля в праве: 0,33 Неформализованное описание: Московская область, г.Лосино-Петровский, ул.Первомайская, д.13, кв.29 Дата начала регистрации: 19.04.2002 Дата окончания регистрации: 25.04.2011 Документ: паспорт гражданина СССР , Серия: XXVII-ИК , Номер: 614485 , 19.01.1989 Воронин евгений игоревич, 02.12.1989 г. р. Наименование объекта: 3-комнатная квартира Адрес: Лосино-Петровский г, Первомайская ул, д.13, кв.29 Площадь: 61,9 кв.м. Условный номер: 50:14.1:17:00713:001:0024 Регистрационный номер: 50-01.14.1-01.2002-497.04 Назначение объекта: Жилое Доля в праве: 0,33 Неформализованное описание: Московская область, г.Лосино-Петровский, ул.Первомайская, д.13, кв.29 Дата начала регистрации: 19.04.2002 Дата окончания регистрации: 11.04.2011 Документ: свидетельство о рождении , Серия: VIII-ИК , Номер: 482790 , 02.01.1990
A27: 24 | C27: Дема | D27: Владимир | E27: Николаевич | G27: 40885 | I27: дело в каб. 7 | K27: Нет в "Алуште" (дело уехало с Сердюком С.Б.) ВЕРНУЛОСЬ (со слов Маши)
A28: 25 | B28: 03-34/5481 | C28: макаров | D28: алексей | E28: викторович | G28: 40885 | K28: №54 (46,8) | L28: Макаров Алексей Викторович, 21.06.1966 г. р. В Едином Государственном Реестре прав отсутствуют сведения о зарегистрированных правах. Макарова Инна Алексеевна, 13.01.1966 г. р. Наименование объекта: Квартира Адрес: Площадь: 46,8 кв.м. Условный номер: 02-04-04/009/2006-369 Регистрационный номер: 02-04-04/016/2008-475 Назначение объекта: Жилое Доля в праве: 1,00 Неформализованное описание: Республика Башкортостан, г. Давлеканово, Карла Маркса, д.12, кв.13 Дата начала регистрации: 05.11.2008 Документ: паспорт гражданина Российской Федерации , Серия: 36 04 , Номер: 508548 , 05.09.2003 Макарова Евгения Алексеевна, 13.05.1996 г. р. В Едином Государственном Реестре прав отсутствуют сведения о зарегистрированных правах.
A29: 26 | C29: Хоменко | D29: Михаил | E29: петрович | G29: 40885 | K29: №56 | L29: забрал договор
A30: 27 | B30: 2748/тс | C30: Глузштейн | D30: Александр | E30: Маркович | G30: 40892 | H30: Котов | I30: в каб. 7 | K30: 40925 | L30: есть собственность (гараж, земельный участок)
A31: 28 | C31: Вахитов | D31: Сергей | E31: Сафуатович | G31: 40896 | H31: Захаров | I31: дело в каб. 7 | K31: №50 от 22.12.2011 | L31: в едином реестре сведения отсутствуют
A32: 29 | C32: Шумихин | D32: Михаил | E32: Юрьевич | G32: 40896 | H32: Захаров | I32: дело в каб. 7 | K32: №50 от 22.12.2011 | L32: имеются сведения о движении имущества (в собственности 79,2 м.кв - по данным Россреестра).
A33: 30 | B33: 2702/тс | C33: Панихидкин | D33: Николай | E33: Федорович | G33: 40896 | I33: в каб. 7 | L33: №43 есть собственность
A34: 31 | C34: Воронин | D34: Николай | E34: Юрьевич | G34: 40898 | H34: Захаров | I34: дело в каб. 7 | K34: №50 от 22.12.2011 | L34: в едином реестре сведения отсутствуют
A35: 32 | C35: Голуб | D35: Татьяна | E35: Анатольевна | G35: 40898 | H35: Захаров | I35: дело в каб. 7 | K35: №50 от 22.12.2011 | L35: в едином реестре сведения отсутствуют
A36: 33 | C36: Ляпустин | D36: Дмитрий | E36: Анатольевич | G36: 40898 | H36: Захаров | I36: дело в каб. 7 | K36: №50 от 22.12.2011 | L36: в едином реестре сведения отсутствуют
A37: 34 | C37: Маштаков | D37: Сергей | E37: Александрович | G37: 40898 | H37: Захаров | I37: дело в каб. 7 | K37: №50 от 22.12.2011 | L37: в едином реестре сведения отсутствуют
A38: 35 | C38: Осипов | D38: Александр | E38: Александрович | G38: 40898 | H38: Захаров | I38: дело в каб. 7 | K38: №50 от 22.12.2011 | L38: имеются сведения о движении имущества (в собственности 105,1 м.кв - по данным Россреестра).
A39: 36 | C39: Семчик | D39: Юлия | E39: Евгеньевна | G39: 40898 | H39: Захаров | I39: дело в каб. 7 | K39: №50 от 22.12.2011 | L39: в едином реестре сведения отсутствуют
A40: 37 | C40: Бадрак | D40: Виктор | E40: Валерьевич | G40: 40899 | H40: Захаров | I40: дело в каб. 7 | K40: №51 от 26.12.2011 | L40: в едином реестре сведения отсутствуют
A41: 38 | C41: Байлым | D41: Сергей | E41: Максимович | G41: 40899 | H41: Захаров | I41: дело в каб. 7 | K41: №51 от 26.12.2011 | L41: в едином реестре сведения отсутствуют
A42: 39 | C42: Бармин | D42: Юрий | E42: Сергеевич | G42: 40899 | H42: Захаров | I42: дело в каб. 7 | K42: №51 от 26.12.2011 | L42: имеются сведения о движении имущества (в собственности 27,5 м.кв - по данным Россреестра).
A43: 40 | C43: Гордиенко | D43: Сергей | E43: Юрьевич | G43: 40899 | H43: Захаров | I43: дело в каб. 7 | K43: №51 от 26.12.2011 | L43: в едином реестре сведения отсутствуют
A44: 41 | C44: Егоров | D44: Сергей | E44: Викторович | G44: 40899 | H44: Захаров | I44: дело в каб. 7 | K44: №51 от 26.12.2011 | L44: имеются сведения о движении имущества (в собственности 124,2 м.кв - по данным Россреестра).
A45: 42 | C45: Емец | D45: Юрий | E45: Васильевич | G45: 40899 | H45: Захаров | I45: дело в каб. 7 | K45: №51 от 26.12.2011 | L45: в едином реестре сведения отсутствуют
... A60: 57 | C60: Балдаев | D60: Алексей | E60: Александрович | G60: 40927 | H60: сердюк | I60: дело в каб. 7 | K60: № 56 от 23.01.2012 | L60: в едином реестре сведения отсутствуют
A61: 58 | B61: 2781/тс | C61: Букин | D61: Александр | E61: Леонидович | G61: 40927 | H61: сердюк | I61: дело в каб. 7 | K61: № 56 от 23.01.2012 | L61: в едином реестре сведения отсутствуют
A62: 59 | B62: 2085/тс | C62: Вязов | D62: Александр | E62: Иванович | G62: 40927 | H62: сердюк | I62: дело в каб. 7 | K62: № 56 от 23.01.2012 | L62: в едином реестре сведения отсутствуют
A63: 60 | B63: 2789/тс | C63: Гаршин | D63: Олег | E63: Валерьевич | G63: 40927 | H63: сердюк | I63: дело в каб. 7 | K63: №56 от 23.01.2012 | L63: в едином реестре сведения отсутствуют
A64: 61 | B64: 2795/тс | C64: Гнедько | D64: Геннадий | E64: Владимирович | G64: 40927 | H64: сердюк | I64: дело в каб. 7 | K64: №56 от 23.01.2012 | L64: в едином реестре сведения отсутствуют
A65: 62 | B65: 2796/тс | C65: Гнездилова | D65: Виктория | E65: Николаевна | G65: 40927 | H65: сердюк | I65: дело в каб. 7 | K65: №56 от 23.01.2012 | L65: в едином реестре сведения отсутствуют
A66: 63 | B66: 2787/тс | C66: Грачев | D66: Олег | E66: Иванович | G66: 40927 | H66: сердюк | I66: дело в каб. 7 | K66: №56 от 23.01.2012 | L66: имеются сведения о движении имущества, в собственности ничего нет
A67: 64 | B67: 2785/тс | C67: Гусаков | D67: Анатолий | E67: Георгиевич | G67: 40927 | H67: сердюк | I67: дело в каб. 7 | K67: № 56 от 23.01.2012 | L67: в едином реестре сведения отсутствуют
A68: 65 | B68: 2779/тс | C68: Демченко | D68: Ольга | E68: Борисовна | G68: 40927 | H68: сердюк | I68: дело в каб. 7 | K68: № 56 от 23.01.2012 | L68: в едином реестре сведения отсутствуют
A69: 66 | B69: 2786/тс | C69: Зайцев | D69: Сергей | E69: Михайлович | G69: 40927 | H69: сердюк | I69: дело в каб. 7 | K69: № 56 от 23.01.2012 | L69: имеются сведения о движении имущества (в собственности 61,1 м.кв - по данным Россреестра). Зайцева Н.В., 05.03.1957 г.р. Адрес: Волжский район, ул. Коммунаров, д.14, кв.10, пл. - 42,5 кв.м, паспорт иностранного гражданина : LV 484188 от 07.07.1993. и т.п.
A70: 67 | B70: 2343/тс | C70: Игнатьева | D70: Наталья | E70: Павловна | G70: 40927 | H70: сердюк | I70: дело в каб. 7 | K70: № 56 от 23.01.2012 | L70: имеются сведения о движении имущества (в собственности 79,2 м.кв - по данным Россреестра).
A71: 68 | C71: Кожакин | D71: Николай | E71: Евгеньевич | G71: 40927 | H71: сердюк | I71: архив | K71: № 56 от 23.01.2012 | L71: Кожакин Николай Евгеньевич, 05.01.1964 г. р. В Едином Государственном Реестре прав отсутствуют сведения о зарегистрированных правах. Кожакина Татьяна Николаевна, 19.05.1960 г. р. Адрес: Омск, Масленникова, Д.23, КВ.108 Площадь: 61,6 кв.м. Условный номер: 55-55-01/134/2009-557 Регистрационный номер: 55-55-01/051/2006-096 Назначение объекта: жилое Доля в праве: 0,50 Неформализованное описание: г.Омск, ул. Масленникова, д.23, кв.108 Дата начала регистрации: 04.05.2006 Дата окончания регистрации: 15.07.2009 Документ: Паспорт гражданина Российской Федерации , Серия: 52 05 , Номер: 249686 , 24.11.2005 Кожакин Алексе Николаевич, 22.11.1987 г. р. В Едином Государственном Реестре прав отсутствуют сведения о зарегистрированных правах. Кожакина Светлана Николаевна, 27.12.1982 г. р. Адрес: Омск, Масленникова, Д.23, КВ.108 Площадь: 61,6 кв.м. Условный номер: 55-55-01/134/2009-557 Регистрационный номер: 55-55-01/051/2006-096 Назначение объекта: жилое Доля в праве: 0,50 Неформализованное описание: г.Омск, ул. Масленникова, д.23, кв.108 Дата начала регистрации: 04.05.2006 Дата окончания регистрации: 15.07.2009 Документ: Паспорт гражданина Российской Федерации , Серия: 52 03 , Номер: 614066 , 20.08.2003 по данным росреестра - 61,6
A72: 69 | B72: 2780/тс | C72: Кругликов | D72: Юрий | E72: Николаевич | G72: 40927 | H72: сердюк | I72: дело в каб. 7 | K72: № 56 от 23.01.2012 | L72: в едином реестре сведения отсутствуют
A73: 70 | B73: 2791/тс | C73: Максименков | D73: Андрей | E73: Павлович | G73: 40927 | H73: сердюк | I73: дело в каб. 7 | K73: №56 от 23.01.2012 (47,1) | L73: Максименков Андрей Павлович, 18.03.1968 г. р. Наименование объекта: Гараж Адрес: Смоленск г, Смоленск г Площадь: 20,3 кв.м. Условный номер: 67-67-01/087/2009-254 Регистрационный номер: 67-67-01/138/2009-234 Назначение объекта: Нежилое Доля в праве: 1,00 Неформализованное описание: Смоленская область, г.Смоленск, гаражно-строительный кооператив "Юбилейный", гараж 174 Дата начала регистрации: 26.08.2009 Документ: паспорт гражданина Российской Федерации , Серия: 66 02 , Номер: 670130 , 05.11.2002 Наименование объекта: Земельный участок Адрес: Смоленск г, Миловидово п Площадь: 1.000,0 кв.м. Регистрационный номер: 67-67-01/238/2010-176 Кадастровый номер: 67:27:0021061:26 Назначение объекта: для ведения личного подсобного хозяйства Доля в праве: 1,00 Неформализованное описание: Смоленская область, г.Смоленск, пос.Миловидово Дата начала регистрации: 08.12.2010 Документ: паспорт гражданина Российской Федерации , Серия: 66 02 , Номер: 670130 , 05.11.2002 Наименование объекта: Земельный участок Адрес: Смоленск г, Смоленск г Площадь: 40,0 кв.м. Регистрационный номер: 67-67-01/219/2010-668 Кадастровый номер: 67:27:0020428:80 Назначение объекта: под гаражами №115 и №174 Доля в праве: 0,50 Неформализованное описание: Смоленская область, г.Смоленск, гаражно-строительный кооператив "Юбилейный" Дата начала регистрации: 28.12.2010 Документ: паспорт гражданина Российской Федерации , Серия: 66 02 , Номер: 670130 , 05.11.2002 Максименкова Татьяна Сергеевна, 29.12.1971 г. р. Наименование объекта: 2-комнатная квартира Адрес: Химки г, З.Космодемьянской ул, д.4, кв.9 Площадь: 47,1 кв.м. Условный номер: 50:10:01:00519:001:0005 Регистрационный номер: 01-10.3729 Назначение объекта: Жилое Доля в праве: 1,00 Неформализованное описание: Московская область, г.Химки, ул.З.Космодемьянской, д.4, кв.9 Дата начала регистрации: 18.02.1998 Дата окончания регистрации: 19.05.2006 Документ: паспорт гражданина СССР , Серия: XVI-ИК , Номер: 708970 , 28.02.1980 Наименование объекта: Земельный участок Адрес: Смоленский р-н Площадь: 150,0 кв.м. Регистрационный номер: 67-67-01/118/2009-341 Кадастровый номер: 67:18:3030101:491 Назначение объекта: для ведения личного подсобного хозяйства Доля в праве: 1,00 Неформализованное описание: Смоленская область, Смоленский район, с.п.Пригорское, д.Рай Дата начала регистрации: 24.07.2009 Документ: паспорт гражданина Российской Федерации , Серия: 66 04 , Номер: 129177 , 30.06.2005 Максименков Антон Андреевич, 16.11.2001 г. р. В Едином Государственном Реестре прав отсутствуют сведения о зарегистрированных правах.
A74: 71 | B74: 2788/тс | C74: Матюшенко | D74: Александр | E74: Викторови | G74: 40927 | H74: сердюк | I74: дело в каб. 7 | K74: №56 от 23.01.2012 | L74: в едином реестре сведения отсутствуют
A75: 72 | B75: 1837/тс | C75: Момот | D75: Александр | E75: Александрович | G75: 40927 | H75: сердюк | I75: дело в каб. 7 | K75: № 56 от 23.01.2012 | L75: в едином реестре сведения отсутствуют
A76: 73 | B76: 2773/тс | C76: Мордовина | D76: Алла | E76: Ивановна | G76: 40927 | H76: сердюк | I76: дело в каб. 7 | K76: №56 от 23.01.2012 | L76: в едином реестре сведения отсутствуют
A77: 74 | B77: 2784/тс | C77: Рожков | D77: Антон | E77: Павлович | G77: 40927 | H77: сердюк | I77: дело в каб. 7 | K77: № 56 от 23.01.2012 | L77: в едином реестре сведения отсутствуют
A78: 75 | B78: 2793/тс | C78: Слончак | D78: Александр | E78: Владимирович | G78: 40927 | H78: сердюк | I78: дело в каб. 7 | K78: №56 от 23.01.2012 | L78: в едином реестре сведения отсутствуют
A79: 76 | B79: 2775/тс | C79: Тамбовцев | D79: Олег | E79: Станиславович | G79: 40927 | H79: сердюк | I79: дело в каб. 7 | K79: № 56 от 23.01.2012 | L79: имеются сведения о движении имущества (в собственности91,5 м.кв - по данным Россреестра).Тамбовцев О.С., 22.02.1968 г.р. Жилой дом, адрес: Киржачский район, ул. Центральная, д.90. пл. - 61,0 кв.м. Документ: 46 99, 258398, от 03.12.1999, и т.п.
A80: 77 | B80: 2772/тс | C80: Ткаченко | D80: Вадим | E80: Егорович | G80: 40927 | H80: сердюк | I80: дело в каб. 7 | K80: № 56 от 23.01.2012 | L80: в едином реестре сведения отсутствуют
A81: 78 | B81: 1084/тс | C81: Федотова | D81: Мария | E81: Адамовна | G81: 40927 | H81: сердюк | I81: дело в каб. 7 | K81: № 56 от 23.01.2012 | L81: Федотова Мария Адамовна, 13.03.1968 г. р. Наименование объекта: гаражный бокс Адрес: Таруса г, Тарусский р-н, КВ.бокс 10 Площадь: 17,4 кв.м. Условный номер: 40-40-20/015/2007-256 Регистрационный номер: 40-40-20/012/2008-040 Назначение объекта: Транспортного назначения Доля в праве: 1,00 Неформализованное описание: Калужская область, г.Таруса, ГСК "Тарусский-2", бокс 10 Дата начала регистрации: 16.06.2008 Документ: паспорт гражданина Российской Федерации , Серия: 29 06 , Номер: 182863 , 15.02.2007 Наименование объекта: Земельный участок Адрес: Тарусский р-н Площадь: 600,0 кв.м. Регистрационный номер: 40-40-20/006/2009-207 Кадастровый номер: 40:20:051101:52 Назначение объекта: для садоводства и огородничества Доля в праве: 1,00 Неформализованное описание: Калужская область, Тарусский район, СНТ "Кооператор", уч.52 Дата начала регистрации: 05.11.2009 Документ: паспорт гражданина Российской Федерации , Серия: 29 06 , Номер: 182863 , 15.02.2007 Адрес: Калининград, Беланова, Д.53, КВ.52 Площадь: 46,0 кв.м. Условный номер: 39:15:02 01 01:0040:20471\А:0052 Регистрационный номер: 39-01-00/162/2004-227 Назначение объекта: жилое Доля в праве: 0,17 Неформализованное описание: Россия, Калининградская обл., г. Калининград, ул. Беланова, дом №53, кв. 52 Дата начала регистрации: 24.12.2004 Дата окончания регистрации: 04.05.2011 Документ: Паспорт гражданина Российской Федерации , Серия: 27 00 , Номер: 236611 , 11.07.2001 Адрес: Калининград, Беланова, Д.53, КВ.52 Площадь: 46,0 кв.м. Условный номер: 39:15:02 01 01:0040:20471\А:0052 Регистрационный номер: 39-39-01/182/2011-071 Назначение объекта: жилое Доля в праве: 0,33 Неформализованное описание: Россия, Калининградская обл., г. Калининград, ул. Беланова, дом №53, кв. 52 Дата начала регистрации: 04.05.2011 Дата окончания регистрации: 04.05.2011 Документ: Паспорт гражданина Российской Федерации , Серия: 27 00 , Номер: 236611 , 11.07.2001 Адрес: <Районного значения>, Кагальницкий, с/т "Единство" СКВО № 737, Д.* Площадь: 800,0 кв.м. Регистрационный номер: 61-61-18/026/2008-582 Кадастровый номер: 61:14:0502501:196 Назначение объекта: земли сельскохозяйственного назначения Доля в праве: 1,00 Неформализованное описание: Россия, Ростовская обл., Кагальницкий район, с/т "Единство" СКВО № 737 Дата начала регистрации: 23.01.2009 Документ: паспорт гражданина Российской Федерации , Серия: 29 06 , Номер: 182863 , 15.02.2007 Федотов Даниил Алексеевич, 27.02.1999 г. р. В Едином Государственном Реестре прав отсутствуют сведения о зарегистрированных правах. Федотова александра алексеевна, 14.02.1992 г. р. В Едином Государственном Реестре прав отсутствуют сведения о зарегистрированных правах. по данным росреестра 23,0
A82: 79 | B82: 2792/тс | C82: Халитов | D82: Анвар | E82: Абдукадырович | G82: 40927 | H82: сердюк | I82: дело в каб. 7 | K82: №56 от 23.01.2012 | L82: в едином реестре сведения отсутствуют
A83: 80 | B83: 2777/тс | C83: Харитонов | D83: Алексей | E83: Михайлович | G83: 40927 | H83: сердюк | I83: дело в каб. 7 | K83: № 56 от 23.01.2012 | L83: в едином реестре сведения отсутствуют
... A85: 82 | B85: 2774/тс | C85: Хоперсков | D85: Александр | E85: Николаевич | G85: 40927 | H85: сердюк | I85: дело в каб. 7 | K85: №56 от 23.01.2012 | L85: в едином реестре сведения отсутствуют
A86: 83 | B86: 2685/тс | C86: Беляйкин | D86: дмитрий | E86: иванович | G86: 40927 | I86: в каб. 7 | L86: №46 собственность есть 75,0 м.кв.
A87: 84 | B87: 2687/тс | C87: бурима | D87: николай | E87: васильевич | G87: 40927 | I87: в каб. 7 | L87: №46 собственности нет
A88: 85 | B88: 2683/тс | C88: гаранин | D88: юрий | E88: алексеевич | G88: 40927 | I88: в каб. 7 | L88: №46 собственности нет
A89: 86 | B89: 2686/тс | C89: елисеенко | D89: савелий | E89: евгеньевич | G89: 40927 | I89: в каб. 7 | L89: №46 собственности нет
A90: 87 | B90: 2684/тс | C90: задойный | D90: дмитрий | E90: павлович | G90: 40927 | I90: в каб. 7 | L90: №46 собственность есть
A91: 88 | B91: 2680/тс | C91: исаев | D91: виктор | E91: владимирович | G91: 40927 | I91: в каб. 7 | L91: №46 собственности нет
A92: 89 | B92: 2688/тс | C92: нестеров | D92: михаил | E92: Михайлович | G92: 40927 | I92: в каб. 7 | L92: №46 собственности нет
A93: 90 | B93: 2959/тс | C93: никифоров | D93: игорь | E93: вячеславович | G93: 40927 | I93: в каб. 7 | L93: №46 собственности нет
A94: 91 | B94: 2956/тс | C94: окишев | D94: сергей | E94: евгеньевич | G94: 40927 | I94: в каб. 7 | L94: №46 собственности нет
A95: 92 | B95: 2957/тс | C95: пресняков | D95: дмитрий | E95: николаевич | G95: 40927 | I95: в каб. 7 | L95: №46 собственности нет
A96: 93 | B96: 2953/тс | C96: расюк | D96: михаил | E96: юрьевич | G96: 40927 | I96: в каб. 7 | L96: №46 собственность есть
A97: 94 | B97: 2959/тс | C97: сафронов | D97: алексей | E97: николаевич | G97: 40927 | I97: в каб. 7 | L97: №46 собственность есть
... A101: 98 | B101: 2535/тс | C101: татаренко | D101: юрий | E101: николаевич | G101: 40927 | I101: в каб. 7 | L101: №46 собственности нет
A102: 99 | B102: 2769/тс | C102: Артёменко | D102: Александр | E102: Николаевич | G102: 40928 | H102: Котов | I102: в каб. 7 | K102: № 56 от 23.01.2012 г. | L102: по данным Росреестра 37,9 кв.м.
A103: 100 | B103: 2776/тс | C103: Балашов | D103: Константин | E103: Константинович | G103: 40928 | H103: Котов | I103: в каб. 7 | K103: № 56 от 23.01.2012 | L103: в едином реестре сведения отсутствуют
A104: 101 | B104: 2743/тс | C104: Бондарь | D104: Сергей | E104: Михайлович | G104: 40928 | H104: Котов | I104: в каб. 7 | K104: № 56 от 23.01.2012 | L104: имеются сведения о движении имущества (в собственности 48,8 м.кв - по данным Россреестра).
A105: 102 | B105: 2771/тс | C105: Братунов | D105: Сергей | E105: Семенович | G105: 40928 | H105: Котов | I105: в каб. 7 | L105: нет в реестре
A106: 103 | B106: 2753/тс | C106: Броницкий | D106: Дмитрий | E106: Васильевич | G106: 40928 | H106: Котов | I106: в каб. 7 | K106: № 56 от 23.01.2012 | L106: имеются сведения о движении имущества (в собственности 36,8 м.кв - по данным Россреестра).
A107: 104 | B107: 2739/тс | C107: Бузин | D107: Артём | E107: Николаевич | G107: 40928 | H107: Котов | I107: в каб. 7 | K107: № 56 от 23.01.2012 | L107: в едином реестре сведения отсутствуют
A108: 105 | B108: 3625/тс | C108: Бухарцев | D108: Владислав | E108: Анатольевич | G108: 40928 | H108: Котов | I108: в каб. 7 | K108: № 56 от 23.01.2012 | L108: в едином реестре сведения отсутствуют есть данные о перемещении имущества
A109: 106 | B109: 2516/тс | C109: Бытковский | D109: Игорь | E109: Владимирович | G109: 40928 | H109: Котов | I109: в каб. 7 | K109: № 56 от 23.01.2012 г. | L109: в едином реестре сведения отсутствуют
A110: 107 | B110: 2761/тс | C110: Васильева | D110: Елена | E110: Дмитриевна | G110: 40928 | H110: Котов | I110: в каб. 7 | K110: № 56 от 23.01.2012 | L110: имеются сведения о движении имущества (в собственности 28,8 м.кв - по данным Россреестра).
A111: 108 | B111: 2765/тс | C111: Гришакова | D111: Людмила | E111: владимировна | G111: 40928 | H111: Котов | I111: в каб. 7 | K111: № 56 от 23.01.2012 | L111: в едином реестре сведения отсутствуют
A112: 109 | B112: 2423/тс | C112: Груздев | D112: Михаил | E112: Владимирович | G112: 40928 | H112: Котов | I112: в каб. 7 | K112: № 56 от 23.01.2012 | L112: в едином реестре сведения отсутствуют
A113: 110 | B113: 3597/тс | C113: Дед | D113: Андрей | E113: Александрович | G113: 40928 | H113: Котов | I113: в каб. 7 | K113: № 56 от 23.01.2012 | L113: в едином реестре сведения отсутствуют
A114: 111 | B114: 2741/тс | C114: Донцов | D114: Федор | E114: Викторович | G114: 40928 | H114: Котов | I114: в каб. 7 | K114: № 56 от 23.01.2012 | L114: имеются сведения о движении имущества
A115: 112 | B115: 2656/тс | C115: Евсеева | D115: Оксана | E115: Сергеевна | G115: 40928 | H115: Котов | I115: в каб. 7 | K115: 40927 | L115: нет записи в реестре
A116: 113 | B116: 2737/тс | C116: Ерошкина | D116: Антонина | E116: Сергеевна | G116: 40928 | H116: Котов | I116: в каб. 7 | K116: № 56 от 23.01.2012 | L116: имеются сведения о движении имущества (в собственности 21,6 м.кв - по данным Россреестра).
A117: 114 | B117: 2745/тс | C117: Жигачев | D117: Владимир | E117: Иванович | G117: 40928 | H117: Котов | I117: в каб. 7 | K117: № 56 от 23.01.2012 | L117: имеются сведения о движении имущества
A118: 115 | B118: 2742/тс | C118: Каюда | D118: Владимир | E118: Владимирович | G118: 40928 | H118: Котов | I118: в каб. 7 | K118: № 56 от 23.01.2012 | L118: имеются сведения о движении имущества
...

Sheet Отчет
A1: Всего | B1: =SUM(B5:B1001) -> 2735 | D1: =SUM(D5:D1001) -> 2086 | F1: 1893
A2: Дата | B2: Запросы | D2: Ответы
B3: За день | C3: Всего | D3: За день | E3: Всего
A4: 40878 | B4: 0 | C4: 0 | D4: =COUNTIF(запросы!$J$4:$J$30001,Отчет!A4)+F4 -> 0 | E4: 0 | F4: 0
A5: 40885 | B5: =COUNTIF(запросы!$G$4:$G$30001,Отчет!A5) -> 26 | C5: =B5 -> 26 | D5: =COUNTIF(запросы!$J$4:$J$30001,Отчет!A5)+F5 -> 1 | E5: =F5 -> 0 | F5: 0
A6: 40892 | B6: =COUNTIF(запросы!$G$4:$G$30001,Отчет!A6) -> 1 | C6: =C5+B6 -> 27 | D6: =COUNTIF(запросы!$J$4:$J$30001,Отчет!A6)+F6 -> 0 | E6: =E5+F6 -> 0 | F6: 0
A7: 40896 | B7: =COUNTIF(запросы!$G$4:$G$30001,Отчет!A7) -> 3 | C7: =C6+B7 -> 30 | D7: =COUNTIF(запросы!$J$4:$J$30001,Отчет!A7)+F7 -> 0 | E7: =E6+F7 -> 0 | F7: 0
A8: 40898 | B8: =COUNTIF(запросы!$G$4:$G$30001,Отчет!A8) -> 6 | C8: =C7+B8 -> 36 | D8: =COUNTIF(запросы!$J$4:$J$30001,Отчет!A8)+F8 -> 0 | E8: =E7+F8 -> 0 | F8: 0
A9: 40899 | B9: =COUNTIF(запросы!$G$4:$G$30001,Отчет!A9) -> 19 | C9: =C8+B9 -> 55 | D9: =COUNTIF(запросы!$J$4:$J$30001,Отчет!A9)+F9 -> 29 | E9: =E8+F9 -> 29 | F9: 29
A10: 40925 | B10: =COUNTIF(запросы!$G$4:$G$30001,Отчет!A10) -> 1 | C10: =C9+B10 -> 56 | D10: =COUNTIF(запросы!$J$4:$J$30001,Отчет!A10)+F10 -> 0 | E10: =E9+F10 -> 29 | F10: 0
A11: 40926 | B11: =COUNTIF(запросы!$G$4:$G$30001,Отчет!A11) -> 0 | C11: =C10+B11 -> 56 | D11: =COUNTIF(запросы!$J$4:$J$30001,Отчет!A11)+F11 -> 0 | E11: =E10+F11 -> 29
A12: 40927 | B12: =COUNTIF(запросы!$G$4:$G$30001,Отчет!A12) -> 42 | C12: =C11+B12 -> 98 | D12: =COUNTIF(запросы!$J$4:$J$30001,Отчет!A12)+F12 -> 27 | E12: =E11+F12 -> 56 | F12: 27
A13: 40928 | B13: =COUNTIF(запросы!$G$4:$G$30001,Отчет!A13) -> 42 | C13: =C12+B13 -> 140 | D13: =COUNTIF(запросы!$J$4:$J$30001,Отчет!A13)+F13 -> 42 | E13: =E12+F13 -> 98 | F13: 42
A14: 40929 | B14: =COUNTIF(запросы!$G$4:$G$30001,Отчет!A14) -> 0 | C14: =C13+B14 -> 140 | D14: =COUNTIF(запросы!$J$4:$J$30001,Отчет!A14)+F14 -> 0 | E14: =E13+F14 -> 98 | F14: 0
A15: 40930 | B15: =COUNTIF(запросы!$G$4:$G$30001,Отчет!A15) -> 0 | C15: =C14+B15 -> 140 | D15: =COUNTIF(запросы!$J$4:$J$30001,Отчет!A15)+F15 -> 0 | E15: =E14+F15 -> 98 | F15: 0
A16: 40931 | B16: =COUNTIF(запросы!$G$4:$G$30001,Отчет!A16) -> 40 | C16: =C15+B16 -> 180 | D16: =COUNTIF(запросы!$J$4:$J$30001,Отчет!A16)+F16 -> 41 | E16: =E15+F16 -> 139 | F16: 41
A17: 40932 | B17: =COUNTIF(запросы!$G$4:$G$30001,Отчет!A17) -> 63 | C17: =C16+B17 -> 243 | D17: =COUNTIF(запросы!$J$4:$J$30001,Отчет!A17)+F17 -> 64 | E17: =E16+F17 -> 203 | F17: 64
A18: 40933 | B18: =COUNTIF(запросы!$G$4:$G$30001,Отчет!A18) -> 0 | C18: =C17+B18 -> 243 | D18: =COUNTIF(запросы!$J$4:$J$30001,Отчет!A18)+F18 -> 0 | E18: =E17+F18 -> 203 | F18: 0
A19: 40934 | B19: =COUNTIF(запросы!$G$4:$G$30001,Отчет!A19) -> 0 | C19: =C18+B19 -> 243 | D19: =COUNTIF(запросы!$J$4:$J$30001,Отчет!A19)+F19 -> 0 | E19: =E18+F19 -> 203 | F19: 0
A20: 40935 | B20: =COUNTIF(запросы!$G$4:$G$30001,Отчет!A20) -> 0 | C20: =C19+B20 -> 243 | D20: =COUNTIF(запросы!$J$4:$J$30001,Отчет!A20)+F20 -> 0 | E20: =E19+F20 -> 203 | F20: 0
A21: 40936 | B21: =COUNTIF(запросы!$G$4:$G$30001,Отчет!A21) -> 0 | C21: =C20+B21 -> 243 | D21: =COUNTIF(запросы!$J$4:$J$30001,Отчет!A21)+F21 -> 0 | E21: =E20+F21 -> 203 | F21: 0
A22: 40937 | B22: =COUNTIF(запросы!$G$4:$G$30001,Отчет!A22) -> 0 | C22: =C21+B22 -> 243 | D22: =COUNTIF(запросы!$J$4:$J$30001,Отчет!A22)+F22 -> 0 | E22: =E21+F22 -> 203 | F22: 0
A23: 40938 | B23: =COUNTIF(запросы!$G$4:$G$30001,Отчет!A23) -> 0 | C23: =C22+B23 -> 243 | D23: =COUNTIF(запросы!$J$4:$J$30001,Отчет!A23)+F23 -> 0 | E23: =E22+F23 -> 203 | F23: 0
... A131: 41046 | B131: =COUNTIF(запросы!$G$4:$G$30001,Отчет!A131) -> 44 | C131: =C130+B131 -> 2482 | D131: =COUNTIF(запросы!$J$4:$J$30001,Отчет!A131)+F131 -> 5 | E131: =E130+F131 -> 1893 | F131: 5
A132: 41047 | B132: =COUNTIF(запросы!$G$4:$G$30001,Отчет!A132) -> 16 | C132: =C131+B132 -> 2498 | D132: =COUNTIF(запросы!$J$4:$J$30001,Отчет!A132)+F132 -> 0 | E132: =E131+D132 -> 1893
A133: 41048 | B133: =COUNTIF(запросы!$G$4:$G$30001,Отчет!A133) -> 17 | C133: =C132+B133 -> 2515 | D133: =COUNTIF(запросы!$J$4:$J$30001,Отчет!A133)+F133 -> 0 | E133: =E132+D133 -> 1893
A134: 41049 | B134: =COUNTIF(запросы!$G$4:$G$30001,Отчет!A134) -> 36 | C134: =C133+B134 -> 2551 | D134: =COUNTIF(запросы!$J$4:$J$30001,Отчет!A134)+F134 -> 0 | E134: =E133+D134 -> 1893
A135: 41050 | B135: =COUNTIF(запросы!$G$4:$G$30001,Отчет!A135) -> 87 | C135: =C134+B135 -> 2638 | D135: =COUNTIF(запросы!$J$4:$J$30001,Отчет!A135)+F135 -> 0 | E135: =E134+D135 -> 1893
A136: 41051 | B136: =COUNTIF(запросы!$G$4:$G$30001,Отчет!A136) -> 62 | C136: =C135+B136 -> 2700 | D136: =COUNTIF(запросы!$J$4:$J$30001,Отчет!A136)+F136 -> 0 | E136: =E135+D136 -> 1893
A137: 41052 | B137: =COUNTIF(запросы!$G$4:$G$30001,Отчет!A137) -> 14 | C137: =C136+B137 -> 2714 | D137: =COUNTIF(запросы!$J$4:$J$30001,Отчет!A137)+F137 -> 0 | E137: =E136+D137 -> 1893
A138: 41053 | B138: =COUNTIF(запросы!$G$4:$G$30001,Отчет!A138) -> 20 | C138: =C137+B138 -> 2734 | D138: =COUNTIF(запросы!$J$4:$J$30001,Отчет!A138)+F138 -> 0 | E138: =E137+D138 -> 1893
A139: 41054 | B139: =COUNTIF(запросы!$G$4:$G$30001,Отчет!A139) -> 1 | C139: =C138+B139 -> 2735 | D139: =COUNTIF(запросы!$J$4:$J$30001,Отчет!A139)+F139 -> 0 | E139: =E138+D139 -> 1893
A140: 41055 | B140: =COUNTIF(запросы!$G$4:$G$30001,Отчет!A140) -> 0 | C140: =C139+B140 -> 2735 | D140: =COUNTIF(запросы!$J$4:$J$30001,Отчет!A140)+F140 -> 0 | E140: =E139+D140 -> 1893
A141: 41056 | B141: =COUNTIF(запросы!$G$4:$G$30001,Отчет!A141) -> 0 | C141: =C140+B141 -> 2735 | D141: =COUNTIF(запросы!$J$4:$J$30001,Отчет!A141)+F141 -> 0 | E141: =E140+D141 -> 1893
A142: 41057 | B142: =COUNTIF(запросы!$G$4:$G$30001,Отчет!A142) -> 0 | C142: =C141+B142 -> 2735 | D142: =COUNTIF(запросы!$J$4:$J$30001,Отчет!A142)+F142 -> 0 | E142: =E141+D142 -> 1893
A143: 41058 | B143: =COUNTIF(запросы!$G$4:$G$30001,Отчет!A143) -> 0 | C143: =C142+B143 -> 2735 | D143: =COUNTIF(запросы!$J$4:$J$30001,Отчет!A143)+F143 -> 0 | E143: =E142+D143 -> 1893
... A359: 41274 | B359: =COUNTIF(запросы!$G$4:$G$30001,Отчет!A359) -> 0 | C359: =C358+B359 -> 2735 | D359: =COUNTIF(запросы!$J$4:$J$30001,Отчет!A359)+F359 -> 0 | E359: =E358+D359 -> 1893
